Workbook

Sheet Коды городов
A1: Город | B1: Код города | C1: Страна | D1: Представитель
A2: Актау | B2: KZ00R | C2: Казахстан | D2: Марина Жиркова
A3: Алматы | B3: KZ00C | C3: Казахстан | D3: Арсентий Хонин
A4: Анапа | B4: RU23N | C4: Россия | D4: Владимир Сидоренко
A5: Архангельск | B5: RU29A | C5: Россия | D5: Антон Ладесов
A6: Ашхабад | B6: TM00A | C6: Туркменистан | D6: Хемра Атабаев
A7: Баку | B7: AZ00A | C7: Азербайджан | D7: Турал Маммедли
A8: Беер-Шева | B8: IL00H | C8: Израиль | D8: Геннадий Андрачник
A9: Берлин | B9: DE00B | C9: Германия | D9: Антон Гусаков
A10: Вашингтон | B10: USDCA | C10: США | D10: Борис Вейцман
A11: Великие Луки | B11: RU60B | C11: Россия | D11: Константин Алдохин
A12: Великий Новгород | B12: RU53A | C12: Россия | D12: Виктор Плотников
... A100: Ярославль | B100: RU76A | C100: Россия | D100: Арсений Глазовский

Sheet Таблица
B1: Балтийский Берег 2019/2020. 2 игра. | I1: 1 тур | U1: Результат 1 тура | X1: 2 тур | AJ1: Результат 2 тура | AM1: Промежуточный результат | AP1: 3 тур | BB1: Результат 3 тура | BE1: Итоговый результат
A2: № | B2: Название команды | C2: Имя, фамилия капитана | D2: МАК ID команды | E2: Код команды в ББ | F2: Город | G2: Страна | H2: Разминка | I2: 1 | J2: 2 | K2: 3 | L2: 4 | M2: 5 | N2: 6 | O2: 7 | P2: 8 | Q2: 9 | R2: 10 | S2: 11 | T2: 12 | U2: Ответы | V2: Рейтинг | W2: Место | X2: 1 13 | Y2: 2 14 | Z2: 3 15 | AA2: 4 16 | AB2: 5 17 | AC2: 6 18 | AD2: 7 19 | AE2: 8 20 | AF2: 9 21 | AG2: 10 22 | AH2: 11 23 | AI2: 12 24 | AJ2: Ответы | AK2: Рейтинг | AL2: Место | AM2: Ответы | AN2: Рейтинг | AO2: Место | AP2: 1 25 | AQ2: 2 26 | AR2: 3 27 | AS2: 4 28 | AT2: 5 29 | AU2: 6 30 | AV2: 7 31 | AW2: 8 32 | AX2: 9 33 | AY2: 10 34 | AZ2: 11 35 | BA2: 12 36 | BB2: Ответы | BC2: Рейтинг | BD2: Место | BE2: Ответы | BF2: Рейтинг | BG2: Место | BH2: Команда
A3: 1 | B3: E=mc^2 | I3: 1 | J3: 1 | K3: 1 | L3: 1 | M3: 1 | O3: 1 | Q3: 1 | R3: 1 | U3: =COUNTIF(I3:T3,">0")+V3/10000 -> 8.0068 | V3: =SUMPRODUCT(I3:T3,$I$54:$T$54) -> 68 | W3: =IF(COUNTIF($U$3:$U$52,"="&U3)=1,COUNTIF($U$3:$U$52,">"&U3)+1&"",(COUNTIF($U$3:$U$52,">"&U3)+1)&".."&COUNTIF($U$3:$U$52,">="&U3)) -> 6 | X3: 1 | Y3: 1 | Z3: 1 | AA3: 1 | AB3: 1 | AD3: 1 | AF3: 1 | AG3: 1 | AH3: 1 | AJ3: =COUNTIF(X3:AI3,">0")+AK3/10000 -> 9.0069 | AK3: =SUMPRODUCT(X3:AI3,$X$54:$AI$54) -> 69 | AL3: =IF(COUNTIF($AJ$3:$AJ$52,"="&AJ3)=1,COUNTIF($AJ$3:$AJ$52,">"&AJ3)+1&"",(COUNTIF($AJ$3:$AJ$52,">"&AJ3)+1)&".."&COUNTIF($AJ$3:$AJ$52,">="&AJ3)) -> 5 | AM3: =U3+AJ3 -> 17.0137 | AN3: =V3+AK3 -> 137 | AO3: =IF(COUNTIF($AM$3:$AM$52,"="&AM3)=1,COUNTIF($AM$3:$AM$52,">"&AM3)+1&"",(COUNTIF($AM$3:$AM$52,">"&AM3)+1)&".."&COUNTIF($AM$3:$AM$52,">="&AM3)) -> 6 | AR3: 1 | AT3: 1 | AU3: 1 | AV3: 1 | AX3: 1 | AY3: 1 | AZ3: 1 | BB3: =COUNTIF(AP3:BA3,">0")+BC3/10000 -> 7.007 | BC3: =SUMPRODUCT(AP3:BA3,$AP$54:$BA$54) -> 70 | BD3: =IF(COUNTIF($BB$3:$BB$52,"="&BB3)=1,COUNTIF($BB$3:$BB$52,">"&BB3)+1&"",(COUNTIF($BB$3:$BB$52,">"&BB3)+1)&".."&COUNTIF($BB$3:$BB$52,">="&BB3)) -> 5 | BE3: =AM3+BB3 -> 24.0207 | BF3: =AN3+BC3 -> 207 | BG3: =IF(COUNTIF($BE$3:$BE$52,"="&BE3)=1,COUNTIF($BE$3:$BE$52,">"&BE3)+1&"",(COUNTIF($BE$3:$BE$52,">"&BE3)+1)&".."&COUNTIF($BE$3:$BE$52,">="&BE3)) -> 6 | BH3: =B3 -> E=mc^2 | BI3: =BE3+IF(B3="",0,A3)/10000000 -> 24.0207 | BK3: ='Команды'!C2 -> #REF!
A4: =A3+1 -> 2 | B4: FIT | I4: 1 | L4: 1 | O4: 1 | R4: 1 | S4: 1 | U4: =COUNTIF(I4:T4,">0")+V4/10000 -> 5.0025 | V4: =SUMPRODUCT(I4:T4,$I$54:$T$54) -> 25 | W4: =IF(COUNTIF($U$3:$U$52,"="&U4)=1,COUNTIF($U$3:$U$52,">"&U4)+1&"",(COUNTIF($U$3:$U$52,">"&U4)+1)&".."&COUNTIF($U$3:$U$52,">="&U4)) -> 15 | Y4: 1 | Z4: 1 | AA4: 1 | AB4: 1 | AC4: 1 | AF4: 1 | AH4: 1 | AJ4: =COUNTIF(X4:AI4,">0")+AK4/10000 -> 7.0053 | AK4: =SUMPRODUCT(X4:AI4,$X$54:$AI$54) -> 53 | AL4: =IF(COUNTIF($AJ$3:$AJ$52,"="&AJ4)=1,COUNTIF($AJ$3:$AJ$52,">"&AJ4)+1&"",(COUNTIF($AJ$3:$AJ$52,">"&AJ4)+1)&".."&COUNTIF($AJ$3:$AJ$52,">="&AJ4)) -> 10 | AM4: =U4+AJ4 -> 12.0078 | AN4: =V4+AK4 -> 78 | AO4: =IF(COUNTIF($AM$3:$AM$52,"="&AM4)=1,COUNTIF($AM$3:$AM$52,">"&AM4)+1&"",(COUNTIF($AM$3:$AM$52,">"&AM4)+1)&".."&COUNTIF($AM$3:$AM$52,">="&AM4)) -> 13 | AP4: 1 | AT4: 1 | AU4: 1 | AW4: 1 | AX4: 1 | AY4: 1 | BA4: 1 | BB4: =COUNTIF(AP4:BA4,">0")+BC4/10000 -> 7.0067 | BC4: =SUMPRODUCT(AP4:BA4,$AP$54:$BA$54) -> 67 | BD4: =IF(COUNTIF($BB$3:$BB$52,"="&BB4)=1,COUNTIF($BB$3:$BB$52,">"&BB4)+1&"",(COUNTIF($BB$3:$BB$52,">"&BB4)+1)&".."&COUNTIF($BB$3:$BB$52,">="&BB4)) -> 6 | BE4: =AM4+BB4 -> 19.0145 | BF4: =AN4+BC4 -> 145 | BG4: =IF(COUNTIF($BE$3:$BE$52,"="&BE4)=1,COUNTIF($BE$3:$BE$52,">"&BE4)+1&"",(COUNTIF($BE$3:$BE$52,">"&BE4)+1)&".."&COUNTIF($BE$3:$BE$52,">="&BE4)) -> 11 | BH4: =B4 -> FIT | BI4: =BE4+IF(B4="",0,A4)/10000000 -> 19.0145 | BK4: ='Команды'!C3 -> #REF!
A5: =A4+1 -> 3 | B5: Non-Sense | I5: 1 | K5: 1 | L5: 1 | M5: 1 | O5: 1 | P5: 1 | S5: 1 | U5: =COUNTIF(I5:T5,">0")+V5/10000 -> 7.0055 | V5: =SUMPRODUCT(I5:T5,$I$54:$T$54) -> 55 | W5: =IF(COUNTIF($U$3:$U$52,"="&U5)=1,COUNTIF($U$3:$U$52,">"&U5)+1&"",(COUNTIF($U$3:$U$52,">"&U5)+1)&".."&COUNTIF($U$3:$U$52,">="&U5)) -> 10 | X5: 1 | Y5: 1 | AA5: 1 | AB5: 1 | AC5: 1 | AF5: 1 | AG5: 1 | AI5: 1 | AJ5: =COUNTIF(X5:AI5,">0")+AK5/10000 -> 8.0054 | AK5: =SUMPRODUCT(X5:AI5,$X$54:$AI$54) -> 54 | AL5: =IF(COUNTIF($AJ$3:$AJ$52,"="&AJ5)=1,COUNTIF($AJ$3:$AJ$52,">"&AJ5)+1&"",(COUNTIF($AJ$3:$AJ$52,">"&AJ5)+1)&".."&COUNTIF($AJ$3:$AJ$52,">="&AJ5)) -> 8..9 | AM5: =U5+AJ5 -> 15.0109 | AN5: =V5+AK5 -> 109 | AO5: =IF(COUNTIF($AM$3:$AM$52,"="&AM5)=1,COUNTIF($AM$3:$AM$52,">"&AM5)+1&"",(COUNTIF($AM$3:$AM$52,">"&AM5)+1)&".."&COUNTIF($AM$3:$AM$52,">="&AM5)) -> 9 | AP5: 1 | AR5: 1 | AS5: 1 | AU5: 1 | AV5: 1 | AW5: 1 | AZ5: 1 | BA5: 1 | BB5: =COUNTIF(AP5:BA5,">0")+BC5/10000 -> 8.0084 | BC5: =SUMPRODUCT(AP5:BA5,$AP$54:$BA$54) -> 84 | BD5: =IF(COUNTIF($BB$3:$BB$52,"="&BB5)=1,COUNTIF($BB$3:$BB$52,">"&BB5)+1&"",(COUNTIF($BB$3:$BB$52,">"&BB5)+1)&".."&COUNTIF($BB$3:$BB$52,">="&BB5)) -> 2 | BE5: =AM5+BB5 -> 23.0193 | BF5: =AN5+BC5 -> 193 | BG5: =IF(COUNTIF($BE$3:$BE$52,"="&BE5)=1,COUNTIF($BE$3:$BE$52,">"&BE5)+1&"",(COUNTIF($BE$3:$BE$52,">"&BE5)+1)&".."&COUNTIF($BE$3:$BE$52,">="&BE5)) -> 8 | BH5: =B5 -> Non-Sense | BI5: =BE5+IF(B5="",0,A5)/10000000 -> 23.0193 | BK5: ='Команды'!C4 -> #REF!
A6: =A5+1 -> 4 | B6: Квартет | I6: 1 | J6: 1 | K6: 1 | L6: 1 | M6: 1 | P6: 1 | Q6: 1 | R6: 1 | S6: 1 | U6: =COUNTIF(I6:T6,">0")+V6/10000 -> 9.0076 | V6: =SUMPRODUCT(I6:T6,$I$54:$T$54) -> 76 | W6: =IF(COUNTIF($U$3:$U$52,"="&U6)=1,COUNTIF($U$3:$U$52,">"&U6)+1&"",(COUNTIF($U$3:$U$52,">"&U6)+1)&".."&COUNTIF($U$3:$U$52,">="&U6)) -> 5 | X6: 1 | Y6: 1 | Z6: 1 | AA6: 1 | AB6: 1 | AC6: 1 | AD6: 1 | AE6: 1 | AF6: 1 | AG6: 1 | AH6: 1 | AI6: 1 | AJ6: =COUNTIF(X6:AI6,">0")+AK6/10000 -> 12.011 | AK6: =SUMPRODUCT(X6:AI6,$X$54:$AI$54) -> 110 | AL6: =IF(COUNTIF($AJ$3:$AJ$52,"="&AJ6)=1,COUNTIF($AJ$3:$AJ$52,">"&AJ6)+1&"",(COUNTIF($AJ$3:$AJ$52,">"&AJ6)+1)&".."&COUNTIF($AJ$3:$AJ$52,">="&AJ6)) -> 1..2 | AM6: =U6+AJ6 -> 21.0186 | AN6: =V6+AK6 -> 186 | AO6: =IF(COUNTIF($AM$3:$AM$52,"="&AM6)=1,COUNTIF($AM$3:$AM$52,">"&AM6)+1&"",(COUNTIF($AM$3:$AM$52,">"&AM6)+1)&".."&COUNTIF($AM$3:$AM$52,">="&AM6)) -> 2 | AR6: 1 | AU6: 1 | AX6: 1 | AY6: 1 | AZ6: 1 | BA6: 1 | BB6: =COUNTIF(AP6:BA6,">0")+BC6/10000 -> 6.0044 | BC6: =SUMPRODUCT(AP6:BA6,$AP$54:$BA$54) -> 44 | BD6: =IF(COUNTIF($BB$3:$BB$52,"="&BB6)=1,COUNTIF($BB$3:$BB$52,">"&BB6)+1&"",(COUNTIF($BB$3:$BB$52,">"&BB6)+1)&".."&COUNTIF($BB$3:$BB$52,">="&BB6)) -> 13..14 | BE6: =AM6+BB6 -> 27.023 | BF6: =AN6+BC6 -> 230 | BG6: =IF(COUNTIF($BE$3:$BE$52,"="&BE6)=1,COUNTIF($BE$3:$BE$52,">"&BE6)+1&"",(COUNTIF($BE$3:$BE$52,">"&BE6)+1)&".."&COUNTIF($BE$3:$BE$52,">="&BE6)) -> 2 | BH6: =B6 -> Квартет | BI6: =BE6+IF(B6="",0,A6)/10000000 -> 27.023 | BK6: ='Команды'!C5 -> #REF!
A7: =A6+1 -> 5 | B7: X-promt | I7: 1 | J7: 1 | K7: 1 | L7: 1 | N7: 1 | P7: 1 | R7: 1 | S7: 1 | T7: 1 | U7: =COUNTIF(I7:T7,">0")+V7/10000 -> 9.0081 | V7: =SUMPRODUCT(I7:T7,$I$54:$T$54) -> 81 | W7: =IF(COUNTIF($U$3:$U$52,"="&U7)=1,COUNTIF($U$3:$U$52,">"&U7)+1&"",(COUNTIF($U$3:$U$52,">"&U7)+1)&".."&COUNTIF($U$3:$U$52,">="&U7)) -> 4 | X7: 1 | Y7: 1 | AA7: 1 | AB7: 1 | AD7: 1 | AE7: 1 | AF7: 1 | AG7: 1 | AH7: 1 | AI7: 1 | AJ7: =COUNTIF(X7:AI7,">0")+AK7/10000 -> 10.0083 | AK7: =SUMPRODUCT(X7:AI7,$X$54:$AI$54) -> 83 | AL7: =IF(COUNTIF($AJ$3:$AJ$52,"="&AJ7)=1,COUNTIF($AJ$3:$AJ$52,">"&AJ7)+1&"",(COUNTIF($AJ$3:$AJ$52,">"&AJ7)+1)&".."&COUNTIF($AJ$3:$AJ$52,">="&AJ7)) -> 3..4 | AM7: =U7+AJ7 -> 19.0164 | AN7: =V7+AK7 -> 164 | AO7: =IF(COUNTIF($AM$3:$AM$52,"="&AM7)=1,COUNTIF($AM$3:$AM$52,">"&AM7)+1&"",(COUNTIF($AM$3:$AM$52,">"&AM7)+1)&".."&COUNTIF($AM$3:$AM$52,">="&AM7)) -> 3 | AR7: 1 | AU7: 1 | AX7: 1 | AY7: 1 | AZ7: 1 | BA7: 1 | BB7: =COUNTIF(AP7:BA7,">0")+BC7/10000 -> 6.0044 | BC7: =SUMPRODUCT(AP7:BA7,$AP$54:$BA$54) -> 44 | BD7: =IF(COUNTIF($BB$3:$BB$52,"="&BB7)=1,COUNTIF($BB$3:$BB$52,">"&BB7)+1&"",(COUNTIF($BB$3:$BB$52,">"&BB7)+1)&".."&COUNTIF($BB$3:$BB$52,">="&BB7)) -> 13..14 | BE7: =AM7+BB7 -> 25.0208 | BF7: =AN7+BC7 -> 208 | BG7: =IF(COUNTIF($BE$3:$BE$52,"="&BE7)=1,COUNTIF($BE$3:$BE$52,">"&BE7)+1&"",(COUNTIF($BE$3:$BE$52,">"&BE7)+1)&".."&COUNTIF($BE$3:$BE$52,">="&BE7)) -> 4 | BH7: =B7 -> X-promt | BI7: =BE7+IF(B7="",0,A7)/10000000 -> 25.0208 | BK7: ='Команды'!C6 -> #REF!
A8: =A7+1 -> 6 | B8: Алан Смити | I8: 1 | L8: 1 | M8: 1 | O8: 1 | R8: 1 | S8: 1 | U8: =COUNTIF(I8:T8,">0")+V8/10000 -> 6.0039 | V8: =SUMPRODUCT(I8:T8,$I$54:$T$54) -> 39 | W8: =IF(COUNTIF($U$3:$U$52,"="&U8)=1,COUNTIF($U$3:$U$52,">"&U8)+1&"",(COUNTIF($U$3:$U$52,">"&U8)+1)&".."&COUNTIF($U$3:$U$52,">="&U8)) -> 13 | X8: 1 | Y8: 1 | AB8: 1 | AF8: 1 | AG8: 1 | AJ8: =COUNTIF(X8:AI8,">0")+AK8/10000 -> 5.002 | AK8: =SUMPRODUCT(X8:AI8,$X$54:$AI$54) -> 20 | AL8: =IF(COUNTIF($AJ$3:$AJ$52,"="&AJ8)=1,COUNTIF($AJ$3:$AJ$52,">"&AJ8)+1&"",(COUNTIF($AJ$3:$AJ$52,">"&AJ8)+1)&".."&COUNTIF($AJ$3:$AJ$52,">="&AJ8)) -> 16 | AM8: =U8+AJ8 -> 11.0059 | AN8: =V8+AK8 -> 59 | AO8: =IF(COUNTIF($AM$3:$AM$52,"="&AM8)=1,COUNTIF($AM$3:$AM$52,">"&AM8)+1&"",(COUNTIF($AM$3:$AM$52,">"&AM8)+1)&".."&COUNTIF($AM$3:$AM$52,">="&AM8)) -> 16 | AS8: 1 | AT8: 1 | AU8: 1 | AW8: 1 | AY8: 1 | AZ8: 1 | BA8: 1 | BB8: =COUNTIF(AP8:BA8,">0")+BC8/10000 -> 7.0063 | BC8: =SUMPRODUCT(AP8:BA8,$AP$54:$BA$54) -> 63 | BD8: =IF(COUNTIF($BB$3:$BB$52,"="&BB8)=1,COUNTIF($BB$3:$BB$52,">"&BB8)+1&"",(COUNTIF($BB$3:$BB$52,">"&BB8)+1)&".."&COUNTIF($BB$3:$BB$52,">="&BB8)) -> 7 | BE8: =AM8+BB8 -> 18.0122 | BF8: =AN8+BC8 -> 122 | BG8: =IF(COUNTIF($BE$3:$BE$52,"="&BE8)=1,COUNTIF($BE$3:$BE$52,">"&BE8)+1&"",(COUNTIF($BE$3:$BE$52,">"&BE8)+1)&".."&COUNTIF($BE$3:$BE$52,">="&BE8)) -> 15 | BH8: =B8 -> Алан Смити | BI8: =BE8+IF(B8="",0,A8)/10000000 -> 18.012201 | BK8: ='Команды'!C7 -> #REF!
A9: =A8+1 -> 7 | B9: Арокс и Штёр | H9: 1 | I9: 1 | J9: 1 | K9: 1 | L9: 1 | N9: 1 | P9: 1 | Q9: 1 | R9: 1 | S9: 1 | T9: 1 | U9: =COUNTIF(I9:T9,">0")+V9/10000 -> 10.0094 | V9: =SUMPRODUCT(I9:T9,$I$54:$T$54) -> 94 | W9: =IF(COUNTIF($U$3:$U$52,"="&U9)=1,COUNTIF($U$3:$U$52,">"&U9)+1&"",(COUNTIF($U$3:$U$52,">"&U9)+1)&".."&COUNTIF($U$3:$U$52,">="&U9)) -> 2 | X9: 1 | Y9: 1 | AA9: 1 | AB9: 1 | AF9: 1 | AG9: 1 | AJ9: =COUNTIF(X9:AI9,">0")+AK9/10000 -> 6.003 | AK9: =SUMPRODUCT(X9:AI9,$X$54:$AI$54) -> 30 | AL9: =IF(COUNTIF($AJ$3:$AJ$52,"="&AJ9)=1,COUNTIF($AJ$3:$AJ$52,">"&AJ9)+1&"",(COUNTIF($AJ$3:$AJ$52,">"&AJ9)+1)&".."&COUNTIF($AJ$3:$AJ$52,">="&AJ9)) -> 15 | AM9: =U9+AJ9 -> 16.0124 | AN9: =V9+AK9 -> 124 | AO9: =IF(COUNTIF($AM$3:$AM$52,"="&AM9)=1,COUNTIF($AM$3:$AM$52,">"&AM9)+1&"",(COUNTIF($AM$3:$AM$52,">"&AM9)+1)&".."&COUNTIF($AM$3:$AM$52,">="&AM9)) -> 7 | AP9: 1 | AQ9: 1 | AR9: 1 | AS9: 1 | AU9: 1 | AX9: 1 | AY9: 1 | BA9: 1 | BB9: =COUNTIF(AP9:BA9,">0")+BC9/10000 -> 8.0081 | BC9: =SUMPRODUCT(AP9:BA9,$AP$54:$BA$54) -> 81 | BD9: =IF(COUNTIF($BB$3:$BB$52,"="&BB9)=1,COUNTIF($BB$3:$BB$52,">"&BB9)+1&"",(COUNTIF($BB$3:$BB$52,">"&BB9)+1)&".."&COUNTIF($BB$3:$BB$52,">="&BB9)) -> 3 | BE9: =AM9+BB9 -> 24.0205 | BF9: =AN9+BC9 -> 205 | BG9: =IF(COUNTIF($BE$3:$BE$52,"="&BE9)=1,COUNTIF($BE$3:$BE$52,">"&BE9)+1&"",(COUNTIF($BE$3:$BE$52,">"&BE9)+1)&".."&COUNTIF($BE$3:$BE$52,">="&BE9)) -> 7 | BH9: =B9 -> Арокс и Штёр | BI9: =BE9+IF(B9="",0,A9)/10000000 -> 24.020501 | BK9: ='Команды'!C8 -> #REF!
A10: =A9+1 -> 8 | B10: КДК | I10: 1 | L10: 1 | O10: 1 | P10: 1 | Q10: 1 | R10: 1 | S10: 1 | U10: =COUNTIF(I10:T10,">0")+V10/10000 -> 7.0051 | V10: =SUMPRODUCT(I10:T10,$I$54:$T$54) -> 51 | W10: =IF(COUNTIF($U$3:$U$52,"="&U10)=1,COUNTIF($U$3:$U$52,">"&U10)+1&"",(COUNTIF($U$3:$U$52,">"&U10)+1)&".."&COUNTIF($U$3:$U$52,">="&U10)) -> 11 | X10: 1 | Y10: 1 | AA10: 1 | AB10: 1 | AC10: 1 | AF10: 1 | AH10: 1 | AJ10: =COUNTIF(X10:AI10,">0")+AK10/10000 -> 7.0046 | AK10: =SUMPRODUCT(X10:AI10,$X$54:$AI$54) -> 46 | AL10: =IF(COUNTIF($AJ$3:$AJ$52,"="&AJ10)=1,COUNTIF($AJ$3:$AJ$52,">"&AJ10)+1&"",(COUNTIF($AJ$3:$AJ$52,">"&AJ10)+1)&".."&COUNTIF($AJ$3:$AJ$52,">="&AJ10)) -> 12 | AM10: =U10+AJ10 -> 14.0097 | AN10: =V10+AK10 -> 97 | AO10: =IF(COUNTIF($AM$3:$AM$52,"="&AM10)=1,COUNTIF($AM$3:$AM$52,">"&AM10)+1&"",(COUNTIF($AM$3:$AM$52,">"&AM10)+1)&".."&COUNTIF($AM$3:$AM$52,">="&AM10)) -> 10 | AR10: 1 | AT10: 1 | AU10: 1 | AW10: 1 | AY10: 1 | AZ10: 1 | BA10: 1 | BB10: =COUNTIF(AP10:BA10,">0")+BC10/10000 -> 7.0058 | BC10: =SUMPRODUCT(AP10:BA10,$AP$54:$BA$54) -> 58 | BD10: =IF(COUNTIF($BB$3:$BB$52,"="&BB10)=1,COUNTIF($BB$3:$BB$52,">"&BB10)+1&"",(COUNTIF($BB$3:$BB$52,">"&BB10)+1)&".."&COUNTIF($BB$3:$BB$52,">="&BB10)) -> 8..9 | BE10: =AM10+BB10 -> 21.0155 | BF10: =AN10+BC10 -> 155 | BG10: =IF(COUNTIF($BE$3:$BE$52,"="&BE10)=1,COUNTIF($BE$3:$BE$52,">"&BE10)+1&"",(COUNTIF($BE$3:$BE$52,">"&BE10)+1)&".."&COUNTIF($BE$3:$BE$52,">="&BE10)) -> 10 | BH10: =B10 -> КДК | BI10: =BE10+IF(B10="",0,A10)/10000000 -> 21.015501 | BK10: ='Команды'!C9 -> #REF!
A11: =A10+1 -> 9 | B11: Космический мусор | I11: 1 | L11: 1 | O11: 1 | U11: =COUNTIF(I11:T11,">0")+V11/10000 -> 3.0013 | V11: =SUMPRODUCT(I11:T11,$I$54:$T$54) -> 13 | W11: =IF(COUNTIF($U$3:$U$52,"="&U11)=1,COUNTIF($U$3:$U$52,">"&U11)+1&"",(COUNTIF($U$3:$U$52,">"&U11)+1)&".."&COUNTIF($U$3:$U$52,">="&U11)) -> 19 | AB11: 1 | AF11: 1 | AJ11: =COUNTIF(X11:AI11,">0")+AK11/10000 -> 2.0003 | AK11: =SUMPRODUCT(X11:AI11,$X$54:$AI$54) -> 3 | AL11: =IF(COUNTIF($AJ$3:$AJ$52,"="&AJ11)=1,COUNTIF($AJ$3:$AJ$52,">"&AJ11)+1&"",(COUNTIF($AJ$3:$AJ$52,">"&AJ11)+1)&".."&COUNTIF($AJ$3:$AJ$52,">="&AJ11)) -> 20 | AM11: =U11+AJ11 -> 5.0016 | AN11: =V11+AK11 -> 16 | AO11: =IF(COUNTIF($AM$3:$AM$52,"="&AM11)=1,COUNTIF($AM$3:$AM$52,">"&AM11)+1&"",(COUNTIF($AM$3:$AM$52,">"&AM11)+1)&".."&COUNTIF($AM$3:$AM$52,">="&AM11)) -> 19 | AW11: 1 | AZ11: 1 | BA11: 1 | BB11: =COUNTIF(AP11:BA11,">0")+BC11/10000 -> 3.0027 | BC11: =SUMPRODUCT(AP11:BA11,$AP$54:$BA$54) -> 27 | BD11: =IF(COUNTIF($BB$3:$BB$52,"="&BB11)=1,COUNTIF($BB$3:$BB$52,">"&BB11)+1&"",(COUNTIF($BB$3:$BB$52,">"&BB11)+1)&".."&COUNTIF($BB$3:$BB$52,">="&BB11)) -> 17 | BE11: =AM11+BB11 -> 8.0043 | BF11: =AN11+BC11 -> 43 | BG11: =IF(COUNTIF($BE$3:$BE$52,"="&BE11)=1,COUNTIF($BE$3:$BE$52,">"&BE11)+1&"",(COUNTIF($BE$3:$BE$52,">"&BE11)+1)&".."&COUNTIF($BE$3:$BE$52,">="&BE11)) -> 19 | BH11: =B11 -> Космический мусор | BI11: =BE11+IF(B11="",0,A11)/10000000 -> 8.0043009 | BK11: =Команды!#REF! -> #ERROR!
A12: =A11+1 -> 10 | B12: Мы календарь | I12: 1 | L12: 1 | U12: =COUNTIF(I12:T12,">0")+V12/10000 -> 2.0003 | V12: =SUMPRODUCT(I12:T12,$I$54:$T$54) -> 3 | W12: =IF(COUNTIF($U$3:$U$52,"="&U12)=1,COUNTIF($U$3:$U$52,">"&U12)+1&"",(COUNTIF($U$3:$U$52,">"&U12)+1)&".."&COUNTIF($U$3:$U$52,">="&U12)) -> 20 | Y12: 1 | AB12: 1 | AF12: 1 | AJ12: =COUNTIF(X12:AI12,">0")+AK12/10000 -> 3.0006 | AK12: =SUMPRODUCT(X12:AI12,$X$54:$AI$54) -> 6 | AL12: =IF(COUNTIF($AJ$3:$AJ$52,"="&AJ12)=1,COUNTIF($AJ$3:$AJ$52,">"&AJ12)+1&"",(COUNTIF($AJ$3:$AJ$52,">"&AJ12)+1)&".."&COUNTIF($AJ$3:$AJ$52,">="&AJ12)) -> 19 | AM12: =U12+AJ12 -> 5.0009 | AN12: =V12+AK12 -> 9 | AO12: =IF(COUNTIF($AM$3:$AM$52,"="&AM12)=1,COUNTIF($AM$3:$AM$52,">"&AM12)+1&"",(COUNTIF($AM$3:$AM$52,">"&AM12)+1)&".."&COUNTIF($AM$3:$AM$52,">="&AM12)) -> 20 | AT12: 1 | BB12: =COUNTIF(AP12:BA12,">0")+BC12/10000 -> 1.0013 | BC12: =SUMPRODUCT(AP12:BA12,$AP$54:$BA$54) -> 13 | BD12: =IF(COUNTIF($BB$3:$BB$52,"="&BB12)=1,COUNTIF($BB$3:$BB$52,">"&BB12)+1&"",(COUNTIF($BB$3:$BB$52,">"&BB12)+1)&".."&COUNTIF($BB$3:$BB$52,">="&BB12)) -> 19 | BE12: =AM12+BB12 -> 6.0022 | BF12: =AN12+BC12 -> 22 | BG12: =IF(COUNTIF($BE$3:$BE$52,"="&BE12)=1,COUNTIF($BE$3:$BE$52,">"&BE12)+1&"",(COUNTIF($BE$3:$BE$52,">"&BE12)+1)&".."&COUNTIF($BE$3:$BE$52,">="&BE12)) -> 20 | BH12: =B12 -> Мы календарь | BI12: =BE12+IF(B12="",0,A12)/10000000 -> 6.002201 | BK12: ='Команды'!C11 -> #REF!
A13: =A12+1 -> 11 | B13: Мы не пьём! | I13: 1 | J13: 1 | K13: 1 | L13: 1 | M13: 1 | P13: 1 | Q13: 1 | R13: 1 | S13: 1 | T13: 1 | U13: =COUNTIF(I13:T13,">0")+V13/10000 -> 10.0092 | V13: =SUMPRODUCT(I13:T13,$I$54:$T$54) -> 92 | W13: =IF(COUNTIF($U$3:$U$52,"="&U13)=1,COUNTIF($U$3:$U$52,">"&U13)+1&"",(COUNTIF($U$3:$U$52,">"&U13)+1)&".."&COUNTIF($U$3:$U$52,">="&U13)) -> 3 | X13: 1 | Y13: 1 | AB13: 1 | AC13: 1 | AF13: 1 | AG13: 1 | AH13: 1 | AI13: 1 | AJ13: =COUNTIF(X13:AI13,">0")+AK13/10000 -> 8.0054 | AK13: =SUMPRODUCT(X13:AI13,$X$54:$AI$54) -> 54 | AL13: =IF(COUNTIF($AJ$3:$AJ$52,"="&AJ13)=1,COUNTIF($AJ$3:$AJ$52,">"&AJ13)+1&"",(COUNTIF($AJ$3:$AJ$52,">"&AJ13)+1)&".."&COUNTIF($AJ$3:$AJ$52,">="&AJ13)) -> 8..9 | AM13: =U13+AJ13 -> 18.0146 | AN13: =V13+AK13 -> 146 | AO13: =IF(COUNTIF($AM$3:$AM$52,"="&AM13)=1,COUNTIF($AM$3:$AM$52,">"&AM13)+1&"",(COUNTIF($AM$3:$AM$52,">"&AM13)+1)&".."&COUNTIF($AM$3:$AM$52,">="&AM13)) -> 5 | AP13: 1 | AR13: 1 | AT13: 1 | AU13: 1 | AY13: 1 | AZ13: 1 | BA13: 1 | BB13: =COUNTIF(AP13:BA13,">0")+BC13/10000 -> 7.0058 | BC13: =SUMPRODUCT(AP13:BA13,$AP$54:$BA$54) -> 58 | BD13: =IF(COUNTIF($BB$3:$BB$52,"="&BB13)=1,COUNTIF($BB$3:$BB$52,">"&BB13)+1&"",(COUNTIF($BB$3:$BB$52,">"&BB13)+1)&".."&COUNTIF($BB$3:$BB$52,">="&BB13)) -> 8..9 | BE13: =AM13+BB13 -> 25.0204 | BF13: =AN13+BC13 -> 204 | BG13: =IF(COUNTIF($BE$3:$BE$52,"="&BE13)=1,COUNTIF($BE$3:$BE$52,">"&BE13)+1&"",(COUNTIF($BE$3:$BE$52,">"&BE13)+1)&".."&COUNTIF($BE$3:$BE$52,">="&BE13)) -> 5 | BH13: =B13 -> Мы не пьём! | BI13: =BE13+IF(B13="",0,A13)/10000000 -> 25.020401 | BK13: ='Команды'!C12 -> #REF!
A14: =A13+1 -> 12 | B14: Н.И.Ш.А. | I14: 1 | J14: 1 | K14: 1 | L14: 1 | M14: 1 | N14: 1 | O14: 1 | Q14: 1 | R14: 1 | S14: 1 | T14: 1 | U14: =COUNTIF(I14:T14,">0")+V14/10000 -> 11.0105 | V14: =SUMPRODUCT(I14:T14,$I$54:$T$54) -> 105 | W14: =IF(COUNTIF($U$3:$U$52,"="&U14)=1,COUNTIF($U$3:$U$52,">"&U14)+1&"",(COUNTIF($U$3:$U$52,">"&U14)+1)&".."&COUNTIF($U$3:$U$52,">="&U14)) -> 1 | X14: 1 | Y14: 1 | Z14: 1 | AA14: 1 | AB14: 1 | AC14: 1 | AD14: 1 | AE14: 1 | AF14: 1 | AG14: 1 | AH14: 1 | AI14: 1 | AJ14: =COUNTIF(X14:AI14,">0")+AK14/10000 -> 12.011 | AK14: =SUMPRODUCT(X14:AI14,$X$54:$AI$54) -> 110 | AL14: =IF(COUNTIF($AJ$3:$AJ$52,"="&AJ14)=1,COUNTIF($AJ$3:$AJ$52,">"&AJ14)+1&"",(COUNTIF($AJ$3:$AJ$52,">"&AJ14)+1)&".."&COUNTIF($AJ$3:$AJ$52,">="&AJ14)) -> 1..2 | AM14: =U14+AJ14 -> 23.0215 | AN14: =V14+AK14 -> 215 | AO14: =IF(COUNTIF($AM$3:$AM$52,"="&AM14)=1,COUNTIF($AM$3:$AM$52,">"&AM14)+1&"",(COUNTIF($AM$3:$AM$52,">"&AM14)+1)&".."&COUNTIF($AM$3:$AM$52,">="&AM14)) -> 1 | AP14: 1 | AQ14: 1 | AR14: 1 | AS14: 1 | AU14: 1 | AV14: 1 | AW14: 1 | AX14: 1 | AY14: 1 | AZ14: 1 | BA14: 1 | BB14: =COUNTIF(AP14:BA14,">0")+BC14/10000 -> 11.0121 | BC14: =SUMPRODUCT(AP14:BA14,$AP$54:$BA$54) -> 121 | BD14: =IF(COUNTIF($BB$3:$BB$52,"="&BB14)=1,COUNTIF($BB$3:$BB$52,">"&BB14)+1&"",(COUNTIF($BB$3:$BB$52,">"&BB14)+1)&".."&COUNTIF($BB$3:$BB$52,">="&BB14)) -> 1 | BE14: =AM14+BB14 -> 34.0336 | BF14: =AN14+BC14 -> 336 | BG14: =IF(COUNTIF($BE$3:$BE$52,"="&BE14)=1,COUNTIF($BE$3:$BE$52,">"&BE14)+1&"",(COUNTIF($BE$3:$BE$52,">"&BE14)+1)&".."&COUNTIF($BE$3:$BE$52,">="&BE14)) -> 1 | BH14: =B14 -> Н.И.Ш.А. | BI14: =BE14+IF(B14="",0,A14)/10000000 -> 34.033601 | BK14: ='Команды'!C14 -> #REF!
A15: =A14+1 -> 13 | B15: По фэншую | I15: 1 | L15: 1 | O15: 1 | S15: 1 | U15: =COUNTIF(I15:T15,">0")+V15/10000 -> 4.0018 | V15: =SUMPRODUCT(I15:T15,$I$54:$T$54) -> 18 | W15: =IF(COUNTIF($U$3:$U$52,"="&U15)=1,COUNTIF($U$3:$U$52,">"&U15)+1&"",(COUNTIF($U$3:$U$52,">"&U15)+1)&".."&COUNTIF($U$3:$U$52,">="&U15)) -> 16 | Y15: 1 | Z15: 1 | AA15: 1 | AB15: 1 | AF15: 1 | AG15: 1 | AH15: 1 | AI15: 1 | AJ15: =COUNTIF(X15:AI15,">0")+AK15/10000 -> 8.0059 | AK15: =SUMPRODUCT(X15:AI15,$X$54:$AI$54) -> 59 | AL15: =IF(COUNTIF($AJ$3:$AJ$52,"="&AJ15)=1,COUNTIF($AJ$3:$AJ$52,">"&AJ15)+1&"",(COUNTIF($AJ$3:$AJ$52,">"&AJ15)+1)&".."&COUNTIF($AJ$3:$AJ$52,">="&AJ15)) -> 6 | AM15: =U15+AJ15 -> 12.0077 | AN15: =V15+AK15 -> 77 | AO15: =IF(COUNTIF($AM$3:$AM$52,"="&AM15)=1,COUNTIF($AM$3:$AM$52,">"&AM15)+1&"",(COUNTIF($AM$3:$AM$52,">"&AM15)+1)&".."&COUNTIF($AM$3:$AM$52,">="&AM15)) -> 14 | AU15: 1 | BB15: =COUNTIF(AP15:BA15,">0")+BC15/10000 -> 1.0003 | BC15: =SUMPRODUCT(AP15:BA15,$AP$54:$BA$54) -> 3 | BD15: =IF(COUNTIF($BB$3:$BB$52,"="&BB15)=1,COUNTIF($BB$3:$BB$52,">"&BB15)+1&"",(COUNTIF($BB$3:$BB$52,">"&BB15)+1)&".."&COUNTIF($BB$3:$BB$52,">="&BB15)) -> 20 | BE15: =AM15+BB15 -> 13.008 | BF15: =AN15+BC15 -> 80 | BG15: =IF(COUNTIF($BE$3:$BE$52,"="&BE15)=1,COUNTIF($BE$3:$BE$52,">"&BE15)+1&"",(COUNTIF($BE$3:$BE$52,">"&BE15)+1)&".."&COUNTIF($BE$3:$BE$52,">="&BE15)) -> 16 | BH15: =B15 -> По фэншую | BI15: =BE15+IF(B15="",0,A15)/10000000 -> 13.008001 | BK15: =Команды!#REF! -> #ERROR!
A16: =A15+1 -> 14 | B16: Сальвадор вДали | I16: 1 | K16: 1 | L16: 1 | N16: 1 | O16: 1 | P16: 1 | R16: 1 | S16: 1 | U16: =COUNTIF(I16:T16,">0")+V16/10000 -> 8.0064 | V16: =SUMPRODUCT(I16:T16,$I$54:$T$54) -> 64 | W16: =IF(COUNTIF($U$3:$U$52,"="&U16)=1,COUNTIF($U$3:$U$52,">"&U16)+1&"",(COUNTIF($U$3:$U$52,">"&U16)+1)&".."&COUNTIF($U$3:$U$52,">="&U16)) -> 8 | Y16: 1 | AB16: 1 | AF16: 1 | AG16: 1 | AJ16: =COUNTIF(X16:AI16,">0")+AK16/10000 -> 4.0012 | AK16: =SUMPRODUCT(X16:AI16,$X$54:$AI$54) -> 12 | AL16: =IF(COUNTIF($AJ$3:$AJ$52,"="&AJ16)=1,COUNTIF($AJ$3:$AJ$52,">"&AJ16)+1&"",(COUNTIF($AJ$3:$AJ$52,">"&AJ16)+1)&".."&COUNTIF($AJ$3:$AJ$52,">="&AJ16)) -> 18 | AM16: =U16+AJ16 -> 12.0076 | AN16: =V16+AK16 -> 76 | AO16: =IF(COUNTIF($AM$3:$AM$52,"="&AM16)=1,COUNTIF($AM$3:$AM$52,">"&AM16)+1&"",(COUNTIF($AM$3:$AM$52,">"&AM16)+1)&".."&COUNTIF($AM$3:$AM$52,">="&AM16)) -> 15 | AR16: 1 | AT16: 1 | AU16: 1 | AV16: 1 | AY16: 1 | BA16: 1 | BB16: =COUNTIF(AP16:BA16,">0")+BC16/10000 -> 6.0052 | BC16: =SUMPRODUCT(AP16:BA16,$AP$54:$BA$54) -> 52 | BD16: =IF(COUNTIF($BB$3:$BB$52,"="&BB16)=1,COUNTIF($BB$3:$BB$52,">"&BB16)+1&"",(COUNTIF($BB$3:$BB$52,">"&BB16)+1)&".."&COUNTIF($BB$3:$BB$52,">="&BB16)) -> 11 | BE16: =AM16+BB16 -> 18.0128 | BF16: =AN16+BC16 -> 128 | BG16: =IF(COUNTIF($BE$3:$BE$52,"="&BE16)=1,COUNTIF($BE$3:$BE$52,">"&BE16)+1&"",(COUNTIF($BE$3:$BE$52,">"&BE16)+1)&".."&COUNTIF($BE$3:$BE$52,">="&BE16)) -> 13 | BH16: =B16 -> Сальвадор вДали | BI16: =BE16+IF(B16="",0,A16)/10000000 -> 18.012801 | BK16: ='Команды'!B29 -> #REF!
A17: =A16+1 -> 15 | B17: Сократики | I17: 1 | L17: 1 | T17: 1 | U17: =COUNTIF(I17:T17,">0")+V17/10000 -> 3.0019 | V17: =SUMPRODUCT(I17:T17,$I$54:$T$54) -> 19 | W17: =IF(COUNTIF($U$3:$U$52,"="&U17)=1,COUNTIF($U$3:$U$52,">"&U17)+1&"",(COUNTIF($U$3:$U$52,">"&U17)+1)&".."&COUNTIF($U$3:$U$52,">="&U17)) -> 17 | AA17: 1 | AF17: 1 | AG17: 1 | AH17: 1 | AJ17: =COUNTIF(X17:AI17,">0")+AK17/10000 -> 4.0027 | AK17: =SUMPRODUCT(X17:AI17,$X$54:$AI$54) -> 27 | AL17: =IF(COUNTIF($AJ$3:$AJ$52,"="&AJ17)=1,COUNTIF($AJ$3:$AJ$52,">"&AJ17)+1&"",(COUNTIF($AJ$3:$AJ$52,">"&AJ17)+1)&".."&COUNTIF($AJ$3:$AJ$52,">="&AJ17)) -> 17 | AM17: =U17+AJ17 -> 7.0046 | AN17: =V17+AK17 -> 46 | AO17: =IF(COUNTIF($AM$3:$AM$52,"="&AM17)=1,COUNTIF($AM$3:$AM$52,">"&AM17)+1&"",(COUNTIF($AM$3:$AM$52,">"&AM17)+1)&".."&COUNTIF($AM$3:$AM$52,">="&AM17)) -> 18 | AS17: 1 | AU17: 1 | AY17: 1 | AZ17: 1 | BA17: 1 | BB17: =COUNTIF(AP17:BA17,">0")+BC17/10000 -> 5.0036 | BC17: =SUMPRODUCT(AP17:BA17,$AP$54:$BA$54) -> 36 | BD17: =IF(COUNTIF($BB$3:$BB$52,"="&BB17)=1,COUNTIF($BB$3:$BB$52,">"&BB17)+1&"",(COUNTIF($BB$3:$BB$52,">"&BB17)+1)&".."&COUNTIF($BB$3:$BB$52,">="&BB17)) -> 16 | BE17: =AM17+BB17 -> 12.0082 | BF17: =AN17+BC17 -> 82 | BG17: =IF(COUNTIF($BE$3:$BE$52,"="&BE17)=1,COUNTIF($BE$3:$BE$52,">"&BE17)+1&"",(COUNTIF($BE$3:$BE$52,">"&BE17)+1)&".."&COUNTIF($BE$3:$BE$52,">="&BE17)) -> 17 | BH17: =B17 -> Сократики | BI17: =BE17+IF(B17="",0,A17)/10000000 -> 12.008202 | BK17: ='Команды'!C17 -> #REF!
A18: =A17+1 -> 16 | B18: ТЧО | I18: 1 | J18: 1 | K18: 1 | L18: 1 | R18: 1 | S18: 1 | U18: =COUNTIF(I18:T18,">0")+V18/10000 -> 6.0036 | V18: =SUMPRODUCT(I18:T18,$I$54:$T$54) -> 36 | W18: =IF(COUNTIF($U$3:$U$52,"="&U18)=1,COUNTIF($U$3:$U$52,">"&U18)+1&"",(COUNTIF($U$3:$U$52,">"&U18)+1)&".."&COUNTIF($U$3:$U$52,">="&U18)) -> 14 | X18: 1 | Y18: 1 | Z18: 1 | AB18: 1 | AC18: 1 | AF18: 1 | AG18: 1 | AJ18: =COUNTIF(X18:AI18,">0")+AK18/10000 -> 7.0047 | AK18: =SUMPRODUCT(X18:AI18,$X$54:$AI$54) -> 47 | AL18: =IF(COUNTIF($AJ$3:$AJ$52,"="&AJ18)=1,COUNTIF($AJ$3:$AJ$52,">"&AJ18)+1&"",(COUNTIF($AJ$3:$AJ$52,">"&AJ18)+1)&".."&COUNTIF($AJ$3:$AJ$52,">="&AJ18)) -> 11 | AM18: =U18+AJ18 -> 13.0083 | AN18: =V18+AK18 -> 83 | AO18: =IF(COUNTIF($AM$3:$AM$52,"="&AM18)=1,COUNTIF($AM$3:$AM$52,">"&AM18)+1&"",(COUNTIF($AM$3:$AM$52,">"&AM18)+1)&".."&COUNTIF($AM$3:$AM$52,">="&AM18)) -> 11..12 | AR18: 1 | AU18: 1 | AW18: 1 | AY18: 1 | AZ18: 1 | BA18: 1 | BB18: =COUNTIF(AP18:BA18,">0")+BC18/10000 -> 6.0045 | BC18: =SUMPRODUCT(AP18:BA18,$AP$54:$BA$54) -> 45 | BD18: =IF(COUNTIF($BB$3:$BB$52,"="&BB18)=1,COUNTIF($BB$3:$BB$52,">"&BB18)+1&"",(COUNTIF($BB$3:$BB$52,">"&BB18)+1)&".."&COUNTIF($BB$3:$BB$52,">="&BB18)) -> 12 | BE18: =AM18+BB18 -> 19.0128 | BF18: =AN18+BC18 -> 128 | BG18: =IF(COUNTIF($BE$3:$BE$52,"="&BE18)=1,COUNTIF($BE$3:$BE$52,">"&BE18)+1&"",(COUNTIF($BE$3:$BE$52,">"&BE18)+1)&".."&COUNTIF($BE$3:$BE$52,">="&BE18)) -> 12 | BH18: =B18 -> ТЧО | BI18: =BE18+IF(B18="",0,A18)/10000000 -> 19.012802 | BK18: ='Команды'!C18 -> #REF!
A19: =A18+1 -> 17 | B19: Центровые | I19: 1 | K19: 1 | L19: 1 | M19: 1 | O19: 1 | Q19: 1 | R19: 1 | S19: 1 | U19: =COUNTIF(I19:T19,">0")+V19/10000 -> 8.0062 | V19: =SUMPRODUCT(I19:T19,$I$54:$T$54) -> 62 | W19: =IF(COUNTIF($U$3:$U$52,"="&U19)=1,COUNTIF($U$3:$U$52,">"&U19)+1&"",(COUNTIF($U$3:$U$52,">"&U19)+1)&".."&COUNTIF($U$3:$U$52,">="&U19)) -> 9 | X19: 1 | Y19: 1 | AB19: 1 | AC19: 1 | AD19: 1 | AF19: 1 | AG19: 1 | AI19: 1 | AJ19: =COUNTIF(X19:AI19,">0")+AK19/10000 -> 8.0058 | AK19: =SUMPRODUCT(X19:AI19,$X$54:$AI$54) -> 58 | AL19: =IF(COUNTIF($AJ$3:$AJ$52,"="&AJ19)=1,COUNTIF($AJ$3:$AJ$52,">"&AJ19)+1&"",(COUNTIF($AJ$3:$AJ$52,">"&AJ19)+1)&".."&COUNTIF($AJ$3:$AJ$52,">="&AJ19)) -> 7 | AM19: =U19+AJ19 -> 16.012 | AN19: =V19+AK19 -> 120 | AO19: =IF(COUNTIF($AM$3:$AM$52,"="&AM19)=1,COUNTIF($AM$3:$AM$52,">"&AM19)+1&"",(COUNTIF($AM$3:$AM$52,">"&AM19)+1)&".."&COUNTIF($AM$3:$AM$52,">="&AM19)) -> 8 | AQ19: 1 | AS19: 1 | AU19: 1 | AY19: 1 | AZ19: 1 | BA19: 1 | BB19: =COUNTIF(AP19:BA19,">0")+BC19/10000 -> 6.0054 | BC19: =SUMPRODUCT(AP19:BA19,$AP$54:$BA$54) -> 54 | BD19: =IF(COUNTIF($BB$3:$BB$52,"="&BB19)=1,COUNTIF($BB$3:$BB$52,">"&BB19)+1&"",(COUNTIF($BB$3:$BB$52,">"&BB19)+1)&".."&COUNTIF($BB$3:$BB$52,">="&BB19)) -> 10 | BE19: =AM19+BB19 -> 22.0174 | BF19: =AN19+BC19 -> 174 | BG19: =IF(COUNTIF($BE$3:$BE$52,"="&BE19)=1,COUNTIF($BE$3:$BE$52,">"&BE19)+1&"",(COUNTIF($BE$3:$BE$52,">"&BE19)+1)&".."&COUNTIF($BE$3:$BE$52,">="&BE19)) -> 9 | BH19: =B19 -> Центровые | BI19: =BE19+IF(B19="",0,A19)/10000000 -> 22.017402 | BK19: ='Команды'!C19 -> #REF!
A20: =A19+1 -> 18 | B20: Чем не пионы? | I20: 1 | J20: 1 | K20: 1 | L20: 1 | N20: 1 | Q20: 1 | R20: 1 | S20: 1 | U20: =COUNTIF(I20:T20,">0")+V20/10000 -> 8.0065 | V20: =SUMPRODUCT(I20:T20,$I$54:$T$54) -> 65 | W20: =IF(COUNTIF($U$3:$U$52,"="&U20)=1,COUNTIF($U$3:$U$52,">"&U20)+1&"",(COUNTIF($U$3:$U$52,">"&U20)+1)&".."&COUNTIF($U$3:$U$52,">="&U20)) -> 7 | X20: 1 | Y20: 1 | AA20: 1 | AB20: 1 | AD20: 1 | AE20: 1 | AF20: 1 | AG20: 1 | AH20: 1 | AI20: 1 | AJ20: =COUNTIF(X20:AI20,">0")+AK20/10000 -> 10.0083 | AK20: =SUMPRODUCT(X20:AI20,$X$54:$AI$54) -> 83 | AL20: =IF(COUNTIF($AJ$3:$AJ$52,"="&AJ20)=1,COUNTIF($AJ$3:$AJ$52,">"&AJ20)+1&"",(COUNTIF($AJ$3:$AJ$52,">"&AJ20)+1)&".."&COUNTIF($AJ$3:$AJ$52,">="&AJ20)) -> 3..4 | AM20: =U20+AJ20 -> 18.0148 | AN20: =V20+AK20 -> 148 | AO20: =IF(COUNTIF($AM$3:$AM$52,"="&AM20)=1,COUNTIF($AM$3:$AM$52,">"&AM20)+1&"",(COUNTIF($AM$3:$AM$52,">"&AM20)+1)&".."&COUNTIF($AM$3:$AM$52,">="&AM20)) -> 4 | AP20: 1 | AR20: 1 | AS20: 1 | AT20: 1 | AU20: 1 | AX20: 1 | AY20: 1 | BA20: 1 | BB20: =COUNTIF(AP20:BA20,">0")+BC20/10000 -> 8.0076 | BC20: =SUMPRODUCT(AP20:BA20,$AP$54:$BA$54) -> 76 | BD20: =IF(COUNTIF($BB$3:$BB$52,"="&BB20)=1,COUNTIF($BB$3:$BB$52,">"&BB20)+1&"",(COUNTIF($BB$3:$BB$52,">"&BB20)+1)&".."&COUNTIF($BB$3:$BB$52,">="&BB20)) -> 4 | BE20: =AM20+BB20 -> 26.0224 | BF20: =AN20+BC20 -> 224 | BG20: =IF(COUNTIF($BE$3:$BE$52,"="&BE20)=1,COUNTIF($BE$3:$BE$52,">"&BE20)+1&"",(COUNTIF($BE$3:$BE$52,">"&BE20)+1)&".."&COUNTIF($BE$3:$BE$52,">="&BE20)) -> 3 | BH20: =B20 -> Чем не пионы? | BI20: =BE20+IF(B20="",0,A20)/10000000 -> 26.022402 | BK20: ='Команды'!C20 -> #REF!
A21: =A20+1 -> 19 | B21: ЧТД | I21: 1 | J21: 1 | L21: 1 | O21: 1 | P21: 1 | R21: 1 | S21: 1 | U21: =COUNTIF(I21:T21,">0")+V21/10000 -> 7.0049 | V21: =SUMPRODUCT(I21:T21,$I$54:$T$54) -> 49 | W21: =IF(COUNTIF($U$3:$U$52,"="&U21)=1,COUNTIF($U$3:$U$52,">"&U21)+1&"",(COUNTIF($U$3:$U$52,">"&U21)+1)&".."&COUNTIF($U$3:$U$52,">="&U21)) -> 12 | Y21: 1 | AB21: 1 | AF21: 1 | AG21: 1 | AH21: 1 | AI21: 1 | AJ21: =COUNTIF(X21:AI21,">0")+AK21/10000 -> 6.0034 | AK21: =SUMPRODUCT(X21:AI21,$X$54:$AI$54) -> 34 | AL21: =IF(COUNTIF($AJ$3:$AJ$52,"="&AJ21)=1,COUNTIF($AJ$3:$AJ$52,">"&AJ21)+1&"",(COUNTIF($AJ$3:$AJ$52,">"&AJ21)+1)&".."&COUNTIF($AJ$3:$AJ$52,">="&AJ21)) -> 14 | AM21: =U21+AJ21 -> 13.0083 | AN21: =V21+AK21 -> 83 | AO21: =IF(COUNTIF($AM$3:$AM$52,"="&AM21)=1,COUNTIF($AM$3:$AM$52,">"&AM21)+1&"",(COUNTIF($AM$3:$AM$52,">"&AM21)+1)&".."&COUNTIF($AM$3:$AM$52,">="&AM21)) -> 11..12 | AP21: 1 | AU21: 1 | AX21: 1 | AY21: 1 | BA21: 1 | BB21: =COUNTIF(AP21:BA21,">0")+BC21/10000 -> 5.004 | BC21: =SUMPRODUCT(AP21:BA21,$AP$54:$BA$54) -> 40 | BD21: =IF(COUNTIF($BB$3:$BB$52,"="&BB21)=1,COUNTIF($BB$3:$BB$52,">"&BB21)+1&"",(COUNTIF($BB$3:$BB$52,">"&BB21)+1)&".."&COUNTIF($BB$3:$BB$52,">="&BB21)) -> 15 | BE21: =AM21+BB21 -> 18.0123 | BF21: =AN21+BC21 -> 123 | BG21: =IF(COUNTIF($BE$3:$BE$52,"="&BE21)=1,COUNTIF($BE$3:$BE$52,">"&BE21)+1&"",(COUNTIF($BE$3:$BE$52,">"&BE21)+1)&".."&COUNTIF($BE$3:$BE$52,">="&BE21)) -> 14 | BH21: =B21 -> ЧТД | BI21: =BE21+IF(B21="",0,A21)/10000000 -> 18.012302 | BK21: ='Команды'!C21 -> #REF!
A22: =A21+1 -> 20 | B22: ШТАБ.LV | C22: =IF(B22="","",VLOOKUP(B22,'Команды'!$B$2:$F$51,2,0)) -> #REF! | D22: =IF(B22="","",VLOOKUP(B22,'Команды'!$B$2:$F$51,3,0)) -> #REF! | E22: =IF(B22="","",VLOOKUP(B22,'Команды'!$B$2:$F$51,7,0)) -> #REF! | F22: =IF(B22="","",VLOOKUP(B22,'Команды'!$B$2:$F$51,4,0)) -> #REF! | G22: =IF(B22="","",VLOOKUP(B22,'Команды'!$B$2:$F$51,5,0)) -> #REF! | I22: 1 | J22: 1 | S22: 1 | U22: =COUNTIF(I22:T22,">0")+V22/10000 -> 3.0017 | V22: =SUMPRODUCT(I22:T22,$I$54:$T$54) -> 17 | W22: =IF(COUNTIF($U$3:$U$52,"="&U22)=1,COUNTIF($U$3:$U$52,">"&U22)+1&"",(COUNTIF($U$3:$U$52,">"&U22)+1)&".."&COUNTIF($U$3:$U$52,">="&U22)) -> 18 | X22: 1 | Y22: 1 | AB22: 1 | AC22: 1 | AD22: 1 | AF22: 1 | AJ22: =COUNTIF(X22:AI22,">0")+AK22/10000 -> 6.004 | AK22: =SUMPRODUCT(X22:AI22,$X$54:$AI$54) -> 40 | AL22: =IF(COUNTIF($AJ$3:$AJ$52,"="&AJ22)=1,COUNTIF($AJ$3:$AJ$52,">"&AJ22)+1&"",(COUNTIF($AJ$3:$AJ$52,">"&AJ22)+1)&".."&COUNTIF($AJ$3:$AJ$52,">="&AJ22)) -> 13 | AM22: =U22+AJ22 -> 9.0057 | AN22: =V22+AK22 -> 57 | AO22: =IF(COUNTIF($AM$3:$AM$52,"="&AM22)=1,COUNTIF($AM$3:$AM$52,">"&AM22)+1&"",(COUNTIF($AM$3:$AM$52,">"&AM22)+1)&".."&COUNTIF($AM$3:$AM$52,">="&AM22)) -> 17 | AR22: 1 | AU22: 1 | BA22: 1 | BB22: =COUNTIF(AP22:BA22,">0")+BC22/10000 -> 3.0016 | BC22: =SUMPRODUCT(AP22:BA22,$AP$54:$BA$54) -> 16 | BD22: =IF(COUNTIF($BB$3:$BB$52,"="&BB22)=1,COUNTIF($BB$3:$BB$52,">"&BB22)+1&"",(COUNTIF($BB$3:$BB$52,">"&BB22)+1)&".."&COUNTIF($BB$3:$BB$52,">="&BB22)) -> 18 | BE22: =AM22+BB22 -> 12.0073 | BF22: =AN22+BC22 -> 73 | BG22: =IF(COUNTIF($BE$3:$BE$52,"="&BE22)=1,COUNTIF($BE$3:$BE$52,">"&BE22)+1&"",(COUNTIF($BE$3:$BE$52,">"&BE22)+1)&".."&COUNTIF($BE$3:$BE$52,">="&BE22)) -> 18 | BH22: =B22 -> ШТАБ.LV | BI22: =BE22+IF(B22="",0,A22)/10000000 -> 12.007302 | BK22: =Команды!#REF! -> #ERROR!
A23: =A22+1 -> 21 | C23: =IF(B23="","",VLOOKUP(B23,'Команды'!$B$2:$F$51,2,0)) | D23: =IF(B23="","",VLOOKUP(B23,'Команды'!$B$2:$F$51,3,0)) | E23: =IF(B23="","",VLOOKUP(B23,'Команды'!$B$2:$F$51,7,0)) | F23: =IF(B23="","",VLOOKUP(B23,'Команды'!$B$2:$F$51,4,0)) | G23: =IF(B23="","",VLOOKUP(B23,'Команды'!$B$2:$F$51,5,0)) | U23: =COUNTIF(I23:T23,">0")+V23/10000 -> 0 | V23: =SUMPRODUCT(I23:T23,$I$54:$T$54) -> 0 | W23: =IF(COUNTIF($U$3:$U$52,"="&U23)=1,COUNTIF($U$3:$U$52,">"&U23)+1&"",(COUNTIF($U$3:$U$52,">"&U23)+1)&".."&COUNTIF($U$3:$U$52,">="&U23)) -> 21..50 | AJ23: =COUNTIF(X23:AI23,">0")+AK23/10000 -> 0 | AK23: =SUMPRODUCT(X23:AI23,$X$54:$AI$54) -> 0 | AL23: =IF(COUNTIF($AJ$3:$AJ$52,"="&AJ23)=1,COUNTIF($AJ$3:$AJ$52,">"&AJ23)+1&"",(COUNTIF($AJ$3:$AJ$52,">"&AJ23)+1)&".."&COUNTIF($AJ$3:$AJ$52,">="&AJ23)) -> 21..50 | AM23: =U23+AJ23 -> 0 | AN23: =V23+AK23 -> 0 | AO23: =IF(COUNTIF($AM$3:$AM$52,"="&AM23)=1,COUNTIF($AM$3:$AM$52,">"&AM23)+1&"",(COUNTIF($AM$3:$AM$52,">"&AM23)+1)&".."&COUNTIF($AM$3:$AM$52,">="&AM23)) -> 21..50 | BB23: =COUNTIF(AP23:BA23,">0")+BC23/10000 -> 0 | BC23: =SUMPRODUCT(AP23:BA23,$AP$54:$BA$54) -> 0 | BD23: =IF(COUNTIF($BB$3:$BB$52,"="&BB23)=1,COUNTIF($BB$3:$BB$52,">"&BB23)+1&"",(COUNTIF($BB$3:$BB$52,">"&BB23)+1)&".."&COUNTIF($BB$3:$BB$52,">="&BB23)) -> 21..50 | BE23: =AM23+BB23 -> 0 | BF23: =AN23+BC23 -> 0 | BG23: =IF(COUNTIF($BE$3:$BE$52,"="&BE23)=1,COUNTIF($BE$3:$BE$52,">"&BE23)+1&"",(COUNTIF($BE$3:$BE$52,">"&BE23)+1)&".."&COUNTIF($BE$3:$BE$52,">="&BE23)) -> 21..50 | BH23: =B23 | BI23: =BE23+IF(B23="",0,A23)/10000000 -> 0 | BK23: =Команды!#REF! -> #ERROR!
A24: =A23+1 -> 22 | C24: =IF(B24="","",VLOOKUP(B24,'Команды'!$B$2:$F$51,2,0)) | D24: =IF(B24="","",VLOOKUP(B24,'Команды'!$B$2:$F$51,3,0)) | E24: =IF(B24="","",VLOOKUP(B24,'Команды'!$B$2:$F$51,7,0)) | F24: =IF(B24="","",VLOOKUP(B24,'Команды'!$B$2:$F$51,4,0)) | G24: =IF(B24="","",VLOOKUP(B24,'Команды'!$B$2:$F$51,5,0)) | U24: =COUNTIF(I24:T24,">0")+V24/10000 -> 0 | V24: =SUMPRODUCT(I24:T24,$I$54:$T$54) -> 0 | W24: =IF(COUNTIF($U$3:$U$52,"="&U24)=1,COUNTIF($U$3:$U$52,">"&U24)+1&"",(COUNTIF($U$3:$U$52,">"&U24)+1)&".."&COUNTIF($U$3:$U$52,">="&U24)) -> 21..50 | AJ24: =COUNTIF(X24:AI24,">0")+AK24/10000 -> 0 | AK24: =SUMPRODUCT(X24:AI24,$X$54:$AI$54) -> 0 | AL24: =IF(COUNTIF($AJ$3:$AJ$52,"="&AJ24)=1,COUNTIF($AJ$3:$AJ$52,">"&AJ24)+1&"",(COUNTIF($AJ$3:$AJ$52,">"&AJ24)+1)&".."&COUNTIF($AJ$3:$AJ$52,">="&AJ24)) -> 21..50 | AM24: =U24+AJ24 -> 0 | AN24: =V24+AK24 -> 0 | AO24: =IF(COUNTIF($AM$3:$AM$52,"="&AM24)=1,COUNTIF($AM$3:$AM$52,">"&AM24)+1&"",(COUNTIF($AM$3:$AM$52,">"&AM24)+1)&".."&COUNTIF($AM$3:$AM$52,">="&AM24)) -> 21..50 | BB24: =COUNTIF(AP24:BA24,">0")+BC24/10000 -> 0 | BC24: =SUMPRODUCT(AP24:BA24,$AP$54:$BA$54) -> 0 | BD24: =IF(COUNTIF($BB$3:$BB$52,"="&BB24)=1,COUNTIF($BB$3:$BB$52,">"&BB24)+1&"",(COUNTIF($BB$3:$BB$52,">"&BB24)+1)&".."&COUNTIF($BB$3:$BB$52,">="&BB24)) -> 21..50 | BE24: =AM24+BB24 -> 0 | BF24: =AN24+BC24 -> 0 | BG24: =IF(COUNTIF($BE$3:$BE$52,"="&BE24)=1,COUNTIF($BE$3:$BE$52,">"&BE24)+1&"",(COUNTIF($BE$3:$BE$52,">"&BE24)+1)&".."&COUNTIF($BE$3:$BE$52,">="&BE24)) -> 21..50 | BH24: =B24 | BI24: =BE24+IF(B24="",0,A24)/10000000 -> 0 | BK24: =Команды!#REF! -> #ERROR!
A25: =A24+1 -> 23 | C25: =IF(B25="","",VLOOKUP(B25,'Команды'!$B$2:$F$51,2,0)) | D25: =IF(B25="","",VLOOKUP(B25,'Команды'!$B$2:$F$51,3,0)) | E25: =IF(B25="","",VLOOKUP(B25,'Команды'!$B$2:$F$51,7,0)) | F25: =IF(B25="","",VLOOKUP(B25,'Команды'!$B$2:$F$51,4,0)) | G25: =IF(B25="","",VLOOKUP(B25,'Команды'!$B$2:$F$51,5,0)) | U25: =COUNTIF(I25:T25,">0")+V25/10000 -> 0 | V25: =SUMPRODUCT(I25:T25,$I$54:$T$54) -> 0 | W25: =IF(COUNTIF($U$3:$U$52,"="&U25)=1,COUNTIF($U$3:$U$52,">"&U25)+1&"",(COUNTIF($U$3:$U$52,">"&U25)+1)&".."&COUNTIF($U$3:$U$52,">="&U25)) -> 21..50 | AJ25: =COUNTIF(X25:AI25,">0")+AK25/10000 -> 0 | AK25: =SUMPRODUCT(X25:AI25,$X$54:$AI$54) -> 0 | AL25: =IF(COUNTIF($AJ$3:$AJ$52,"="&AJ25)=1,COUNTIF($AJ$3:$AJ$52,">"&AJ25)+1&"",(COUNTIF($AJ$3:$AJ$52,">"&AJ25)+1)&".."&COUNTIF($AJ$3:$AJ$52,">="&AJ25)) -> 21..50 | AM25: =U25+AJ25 -> 0 | AN25: =V25+AK25 -> 0 | AO25: =IF(COUNTIF($AM$3:$AM$52,"="&AM25)=1,COUNTIF($AM$3:$AM$52,">"&AM25)+1&"",(COUNTIF($AM$3:$AM$52,">"&AM25)+1)&".."&COUNTIF($AM$3:$AM$52,">="&AM25)) -> 21..50 | BB25: =COUNTIF(AP25:BA25,">0")+BC25/10000 -> 0 | BC25: =SUMPRODUCT(AP25:BA25,$AP$54:$BA$54) -> 0 | BD25: =IF(COUNTIF($BB$3:$BB$52,"="&BB25)=1,COUNTIF($BB$3:$BB$52,">"&BB25)+1&"",(COUNTIF($BB$3:$BB$52,">"&BB25)+1)&".."&COUNTIF($BB$3:$BB$52,">="&BB25)) -> 21..50 | BE25: =AM25+BB25 -> 0 | BF25: =AN25+BC25 -> 0 | BG25: =IF(COUNTIF($BE$3:$BE$52,"="&BE25)=1,COUNTIF($BE$3:$BE$52,">"&BE25)+1&"",(COUNTIF($BE$3:$BE$52,">"&BE25)+1)&".."&COUNTIF($BE$3:$BE$52,">="&BE25)) -> 21..50 | BH25: =B25 | BI25: =BE25+IF(B25="",0,A25)/10000000 -> 0 | BK25: =Команды!#REF! -> #ERROR!
A26: =A25+1 -> 24 | C26: =IF(B26="","",VLOOKUP(B26,'Команды'!$B$2:$F$51,2,0)) | D26: =IF(B26="","",VLOOKUP(B26,'Команды'!$B$2:$F$51,3,0)) | E26: =IF(B26="","",VLOOKUP(B26,'Команды'!$B$2:$F$51,7,0)) | F26: =IF(B26="","",VLOOKUP(B26,'Команды'!$B$2:$F$51,4,0)) | G26: =IF(B26="","",VLOOKUP(B26,'Команды'!$B$2:$F$51,5,0)) | U26: =COUNTIF(I26:T26,">0")+V26/10000 -> 0 | V26: =SUMPRODUCT(I26:T26,$I$54:$T$54) -> 0 | W26: =IF(COUNTIF($U$3:$U$52,"="&U26)=1,COUNTIF($U$3:$U$52,">"&U26)+1&"",(COUNTIF($U$3:$U$52,">"&U26)+1)&".."&COUNTIF($U$3:$U$52,">="&U26)) -> 21..50 | AJ26: =COUNTIF(X26:AI26,">0")+AK26/10000 -> 0 | AK26: =SUMPRODUCT(X26:AI26,$X$54:$AI$54) -> 0 | AL26: =IF(COUNTIF($AJ$3:$AJ$52,"="&AJ26)=1,COUNTIF($AJ$3:$AJ$52,">"&AJ26)+1&"",(COUNTIF($AJ$3:$AJ$52,">"&AJ26)+1)&".."&COUNTIF($AJ$3:$AJ$52,">="&AJ26)) -> 21..50 | AM26: =U26+AJ26 -> 0 | AN26: =V26+AK26 -> 0 | AO26: =IF(COUNTIF($AM$3:$AM$52,"="&AM26)=1,COUNTIF($AM$3:$AM$52,">"&AM26)+1&"",(COUNTIF($AM$3:$AM$52,">"&AM26)+1)&".."&COUNTIF($AM$3:$AM$52,">="&AM26)) -> 21..50 | BB26: =COUNTIF(AP26:BA26,">0")+BC26/10000 -> 0 | BC26: =SUMPRODUCT(AP26:BA26,$AP$54:$BA$54) -> 0 | BD26: =IF(COUNTIF($BB$3:$BB$52,"="&BB26)=1,COUNTIF($BB$3:$BB$52,">"&BB26)+1&"",(COUNTIF($BB$3:$BB$52,">"&BB26)+1)&".."&COUNTIF($BB$3:$BB$52,">="&BB26)) -> 21..50 | BE26: =AM26+BB26 -> 0 | BF26: =AN26+BC26 -> 0 | BG26: =IF(COUNTIF($BE$3:$BE$52,"="&BE26)=1,COUNTIF($BE$3:$BE$52,">"&BE26)+1&"",(COUNTIF($BE$3:$BE$52,">"&BE26)+1)&".."&COUNTIF($BE$3:$BE$52,">="&BE26)) -> 21..50 | BH26: =B26 | BI26: =BE26+IF(B26="",0,A26)/10000000 -> 0 | BK26: ='Команды'!B28 -> #REF!
A27: =A26+1 -> 25 | C27: =IF(B27="","",VLOOKUP(B27,'Команды'!$B$2:$F$51,2,0)) | D27: =IF(B27="","",VLOOKUP(B27,'Команды'!$B$2:$F$51,3,0)) | E27: =IF(B27="","",VLOOKUP(B27,'Команды'!$B$2:$F$51,7,0)) | F27: =IF(B27="","",VLOOKUP(B27,'Команды'!$B$2:$F$51,4,0)) | G27: =IF(B27="","",VLOOKUP(B27,'Команды'!$B$2:$F$51,5,0)) | U27: =COUNTIF(I27:T27,">0")+V27/10000 -> 0 | V27: =SUMPRODUCT(I27:T27,$I$54:$T$54) -> 0 | W27: =IF(COUNTIF($U$3:$U$52,"="&U27)=1,COUNTIF($U$3:$U$52,">"&U27)+1&"",(COUNTIF($U$3:$U$52,">"&U27)+1)&".."&COUNTIF($U$3:$U$52,">="&U27)) -> 21..50 | AJ27: =COUNTIF(X27:AI27,">0")+AK27/10000 -> 0 | AK27: =SUMPRODUCT(X27:AI27,$X$54:$AI$54) -> 0 | AL27: =IF(COUNTIF($AJ$3:$AJ$52,"="&AJ27)=1,COUNTIF($AJ$3:$AJ$52,">"&AJ27)+1&"",(COUNTIF($AJ$3:$AJ$52,">"&AJ27)+1)&".."&COUNTIF($AJ$3:$AJ$52,">="&AJ27)) -> 21..50 | AM27: =U27+AJ27 -> 0 | AN27: =V27+AK27 -> 0 | AO27: =IF(COUNTIF($AM$3:$AM$52,"="&AM27)=1,COUNTIF($AM$3:$AM$52,">"&AM27)+1&"",(COUNTIF($AM$3:$AM$52,">"&AM27)+1)&".."&COUNTIF($AM$3:$AM$52,">="&AM27)) -> 21..50 | BB27: =COUNTIF(AP27:BA27,">0")+BC27/10000 -> 0 | BC27: =SUMPRODUCT(AP27:BA27,$AP$54:$BA$54) -> 0 | BD27: =IF(COUNTIF($BB$3:$BB$52,"="&BB27)=1,COUNTIF($BB$3:$BB$52,">"&BB27)+1&"",(COUNTIF($BB$3:$BB$52,">"&BB27)+1)&".."&COUNTIF($BB$3:$BB$52,">="&BB27)) -> 21..50 | BE27: =AM27+BB27 -> 0 | BF27: =AN27+BC27 -> 0 | BG27: =IF(COUNTIF($BE$3:$BE$52,"="&BE27)=1,COUNTIF($BE$3:$BE$52,">"&BE27)+1&"",(COUNTIF($BE$3:$BE$52,">"&BE27)+1)&".."&COUNTIF($BE$3:$BE$52,">="&BE27)) -> 21..50 | BH27: =B27 | BI27: =BE27+IF(B27="",0,A27)/10000000 -> 0 | BK27: =Команды!#REF! -> #ERROR!
A28: =A27+1 -> 26 | C28: =IF(B28="","",VLOOKUP(B28,'Команды'!$B$2:$F$51,2,0)) | D28: =IF(B28="","",VLOOKUP(B28,'Команды'!$B$2:$F$51,3,0)) | E28: =IF(B28="","",VLOOKUP(B28,'Команды'!$B$2:$F$51,7,0)) | F28: =IF(B28="","",VLOOKUP(B28,'Команды'!$B$2:$F$51,4,0)) | G28: =IF(B28="","",VLOOKUP(B28,'Команды'!$B$2:$F$51,5,0)) | U28: =COUNTIF(I28:T28,">0")+V28/10000 -> 0 | V28: =SUMPRODUCT(I28:T28,$I$54:$T$54) -> 0 | W28: =IF(COUNTIF($U$3:$U$52,"="&U28)=1,COUNTIF($U$3:$U$52,">"&U28)+1&"",(COUNTIF($U$3:$U$52,">"&U28)+1)&".."&COUNTIF($U$3:$U$52,">="&U28)) -> 21..50 | AJ28: =COUNTIF(X28:AI28,">0")+AK28/10000 -> 0 | AK28: =SUMPRODUCT(X28:AI28,$X$54:$AI$54) -> 0 | AL28: =IF(COUNTIF($AJ$3:$AJ$52,"="&AJ28)=1,COUNTIF($AJ$3:$AJ$52,">"&AJ28)+1&"",(COUNTIF($AJ$3:$AJ$52,">"&AJ28)+1)&".."&COUNTIF($AJ$3:$AJ$52,">="&AJ28)) -> 21..50 | AM28: =U28+AJ28 -> 0 | AN28: =V28+AK28 -> 0 | AO28: =IF(COUNTIF($AM$3:$AM$52,"="&AM28)=1,COUNTIF($AM$3:$AM$52,">"&AM28)+1&"",(COUNTIF($AM$3:$AM$52,">"&AM28)+1)&".."&COUNTIF($AM$3:$AM$52,">="&AM28)) -> 21..50 | BB28: =COUNTIF(AP28:BA28,">0")+BC28/10000 -> 0 | BC28: =SUMPRODUCT(AP28:BA28,$AP$54:$BA$54) -> 0 | BD28: =IF(COUNTIF($BB$3:$BB$52,"="&BB28)=1,COUNTIF($BB$3:$BB$52,">"&BB28)+1&"",(COUNTIF($BB$3:$BB$52,">"&BB28)+1)&".."&COUNTIF($BB$3:$BB$52,">="&BB28)) -> 21..50 | BE28: =AM28+BB28 -> 0 | BF28: =AN28+BC28 -> 0 | BG28: =IF(COUNTIF($BE$3:$BE$52,"="&BE28)=1,COUNTIF($BE$3:$BE$52,">"&BE28)+1&"",(COUNTIF($BE$3:$BE$52,">"&BE28)+1)&".."&COUNTIF($BE$3:$BE$52,">="&BE28)) -> 21..50 | BH28: =B28 | BI28: =BE28+IF(B28="",0,A28)/10000000 -> 0 | BK28: =Команды!#REF! -> #ERROR!
A29: =A28+1 -> 27 | C29: =IF(B29="","",VLOOKUP(B29,'Команды'!$B$2:$F$51,2,0)) | D29: =IF(B29="","",VLOOKUP(B29,'Команды'!$B$2:$F$51,3,0)) | E29: =IF(B29="","",VLOOKUP(B29,'Команды'!$B$2:$F$51,7,0)) | F29: =IF(B29="","",VLOOKUP(B29,'Команды'!$B$2:$F$51,4,0)) | G29: =IF(B29="","",VLOOKUP(B29,'Команды'!$B$2:$F$51,5,0)) | U29: =COUNTIF(I29:T29,">0")+V29/10000 -> 0 | V29: =SUMPRODUCT(I29:T29,$I$54:$T$54) -> 0 | W29: =IF(COUNTIF($U$3:$U$52,"="&U29)=1,COUNTIF($U$3:$U$52,">"&U29)+1&"",(COUNTIF($U$3:$U$52,">"&U29)+1)&".."&COUNTIF($U$3:$U$52,">="&U29)) -> 21..50 | AJ29: =COUNTIF(X29:AI29,">0")+AK29/10000 -> 0 | AK29: =SUMPRODUCT(X29:AI29,$X$54:$AI$54) -> 0 | AL29: =IF(COUNTIF($AJ$3:$AJ$52,"="&AJ29)=1,COUNTIF($AJ$3:$AJ$52,">"&AJ29)+1&"",(COUNTIF($AJ$3:$AJ$52,">"&AJ29)+1)&".."&COUNTIF($AJ$3:$AJ$52,">="&AJ29)) -> 21..50 | AM29: =U29+AJ29 -> 0 | AN29: =V29+AK29 -> 0 | AO29: =IF(COUNTIF($AM$3:$AM$52,"="&AM29)=1,COUNTIF($AM$3:$AM$52,">"&AM29)+1&"",(COUNTIF($AM$3:$AM$52,">"&AM29)+1)&".."&COUNTIF($AM$3:$AM$52,">="&AM29)) -> 21..50 | BB29: =COUNTIF(AP29:BA29,">0")+BC29/10000 -> 0 | BC29: =SUMPRODUCT(AP29:BA29,$AP$54:$BA$54) -> 0 | BD29: =IF(COUNTIF($BB$3:$BB$52,"="&BB29)=1,COUNTIF($BB$3:$BB$52,">"&BB29)+1&"",(COUNTIF($BB$3:$BB$52,">"&BB29)+1)&".."&COUNTIF($BB$3:$BB$52,">="&BB29)) -> 21..50 | BE29: =AM29+BB29 -> 0 | BF29: =AN29+BC29 -> 0 | BG29: =IF(COUNTIF($BE$3:$BE$52,"="&BE29)=1,COUNTIF($BE$3:$BE$52,">"&BE29)+1&"",(COUNTIF($BE$3:$BE$52,">"&BE29)+1)&".."&COUNTIF($BE$3:$BE$52,">="&BE29)) -> 21..50 | BH29: =B29 | BI29: =BE29+IF(B29="",0,A29)/10000000 -> 0 | BK29: =Команды!#REF! -> #ERROR!
A30: =A29+1 -> 28 | C30: =IF(B30="","",VLOOKUP(B30,'Команды'!$B$2:$F$51,2,0)) | D30: =IF(B30="","",VLOOKUP(B30,'Команды'!$B$2:$F$51,3,0)) | E30: =IF(B30="","",VLOOKUP(B30,'Команды'!$B$2:$F$51,7,0)) | F30: =IF(B30="","",VLOOKUP(B30,'Команды'!$B$2:$F$51,4,0)) | G30: =IF(B30="","",VLOOKUP(B30,'Команды'!$B$2:$F$51,5,0)) | U30: =COUNTIF(I30:T30,">0")+V30/10000 -> 0 | V30: =SUMPRODUCT(I30:T30,$I$54:$T$54) -> 0 | W30: =IF(COUNTIF($U$3:$U$52,"="&U30)=1,COUNTIF($U$3:$U$52,">"&U30)+1&"",(COUNTIF($U$3:$U$52,">"&U30)+1)&".."&COUNTIF($U$3:$U$52,">="&U30)) -> 21..50 | AJ30: =COUNTIF(X30:AI30,">0")+AK30/10000 -> 0 | AK30: =SUMPRODUCT(X30:AI30,$X$54:$AI$54) -> 0 | AL30: =IF(COUNTIF($AJ$3:$AJ$52,"="&AJ30)=1,COUNTIF($AJ$3:$AJ$52,">"&AJ30)+1&"",(COUNTIF($AJ$3:$AJ$52,">"&AJ30)+1)&".."&COUNTIF($AJ$3:$AJ$52,">="&AJ30)) -> 21..50 | AM30: =U30+AJ30 -> 0 | AN30: =V30+AK30 -> 0 | AO30: =IF(COUNTIF($AM$3:$AM$52,"="&AM30)=1,COUNTIF($AM$3:$AM$52,">"&AM30)+1&"",(COUNTIF($AM$3:$AM$52,">"&AM30)+1)&".."&COUNTIF($AM$3:$AM$52,">="&AM30)) -> 21..50 | BB30: =COUNTIF(AP30:BA30,">0")+BC30/10000 -> 0 | BC30: =SUMPRODUCT(AP30:BA30,$AP$54:$BA$54) -> 0 | BD30: =IF(COUNTIF($BB$3:$BB$52,"="&BB30)=1,COUNTIF($BB$3:$BB$52,">"&BB30)+1&"",(COUNTIF($BB$3:$BB$52,">"&BB30)+1)&".."&COUNTIF($BB$3:$BB$52,">="&BB30)) -> 21..50 | BE30: =AM30+BB30 -> 0 | BF30: =AN30+BC30 -> 0 | BG30: =IF(COUNTIF($BE$3:$BE$52,"="&BE30)=1,COUNTIF($BE$3:$BE$52,">"&BE30)+1&"",(COUNTIF($BE$3:$BE$52,">"&BE30)+1)&".."&COUNTIF($BE$3:$BE$52,">="&BE30)) -> 21..50 | BH30: =B30 | BI30: =BE30+IF(B30="",0,A30)/10000000 -> 0 | BK30: =Команды!#REF! -> #ERROR!
A31: =A30+1 -> 29 | C31: =IF(B31="","",VLOOKUP(B31,'Команды'!$B$2:$F$51,2,0)) | D31: =IF(B31="","",VLOOKUP(B31,'Команды'!$B$2:$F$51,3,0)) | E31: =IF(B31="","",VLOOKUP(B31,'Команды'!$B$2:$F$51,7,0)) | F31: =IF(B31="","",VLOOKUP(B31,'Команды'!$B$2:$F$51,4,0)) | G31: =IF(B31="","",VLOOKUP(B31,'Команды'!$B$2:$F$51,5,0)) | U31: =COUNTIF(I31:T31,">0")+V31/10000 -> 0 | V31: =SUMPRODUCT(I31:T31,$I$54:$T$54) -> 0 | W31: =IF(COUNTIF($U$3:$U$52,"="&U31)=1,COUNTIF($U$3:$U$52,">"&U31)+1&"",(COUNTIF($U$3:$U$52,">"&U31)+1)&".."&COUNTIF($U$3:$U$52,">="&U31)) -> 21..50 | AJ31: =COUNTIF(X31:AI31,">0")+AK31/10000 -> 0 | AK31: =SUMPRODUCT(X31:AI31,$X$54:$AI$54) -> 0 | AL31: =IF(COUNTIF($AJ$3:$AJ$52,"="&AJ31)=1,COUNTIF($AJ$3:$AJ$52,">"&AJ31)+1&"",(COUNTIF($AJ$3:$AJ$52,">"&AJ31)+1)&".."&COUNTIF($AJ$3:$AJ$52,">="&AJ31)) -> 21..50 | AM31: =U31+AJ31 -> 0 | AN31: =V31+AK31 -> 0 | AO31: =IF(COUNTIF($AM$3:$AM$52,"="&AM31)=1,COUNTIF($AM$3:$AM$52,">"&AM31)+1&"",(COUNTIF($AM$3:$AM$52,">"&AM31)+1)&".."&COUNTIF($AM$3:$AM$52,">="&AM31)) -> 21..50 | BB31: =COUNTIF(AP31:BA31,">0")+BC31/10000 -> 0 | BC31: =SUMPRODUCT(AP31:BA31,$AP$54:$BA$54) -> 0 | BD31: =IF(COUNTIF($BB$3:$BB$52,"="&BB31)=1,COUNTIF($BB$3:$BB$52,">"&BB31)+1&"",(COUNTIF($BB$3:$BB$52,">"&BB31)+1)&".."&COUNTIF($BB$3:$BB$52,">="&BB31)) -> 21..50 | BE31: =AM31+BB31 -> 0 | BF31: =AN31+BC31 -> 0 | BG31: =IF(COUNTIF($BE$3:$BE$52,"="&BE31)=1,COUNTIF($BE$3:$BE$52,">"&BE31)+1&"",(COUNTIF($BE$3:$BE$52,">"&BE31)+1)&".."&COUNTIF($BE$3:$BE$52,">="&BE31)) -> 21..50 | BH31: =B31 | BI31: =BE31+IF(B31="",0,A31)/10000000 -> 0 | BK31: =Команды!#REF! -> #ERROR!
A32: =A31+1 -> 30 | C32: =IF(B32="","",VLOOKUP(B32,'Команды'!$B$2:$F$51,2,0)) | D32: =IF(B32="","",VLOOKUP(B32,'Команды'!$B$2:$F$51,3,0)) | E32: =IF(B32="","",VLOOKUP(B32,'Команды'!$B$2:$F$51,7,0)) | F32: =IF(B32="","",VLOOKUP(B32,'Команды'!$B$2:$F$51,4,0)) | G32: =IF(B32="","",VLOOKUP(B32,'Команды'!$B$2:$F$51,5,0)) | U32: =COUNTIF(I32:T32,">0")+V32/10000 -> 0 | V32: =SUMPRODUCT(I32:T32,$I$54:$T$54) -> 0 | W32: =IF(COUNTIF($U$3:$U$52,"="&U32)=1,COUNTIF($U$3:$U$52,">"&U32)+1&"",(COUNTIF($U$3:$U$52,">"&U32)+1)&".."&COUNTIF($U$3:$U$52,">="&U32)) -> 21..50 | AJ32: =COUNTIF(X32:AI32,">0")+AK32/10000 -> 0 | AK32: =SUMPRODUCT(X32:AI32,$X$54:$AI$54) -> 0 | AL32: =IF(COUNTIF($AJ$3:$AJ$52,"="&AJ32)=1,COUNTIF($AJ$3:$AJ$52,">"&AJ32)+1&"",(COUNTIF($AJ$3:$AJ$52,">"&AJ32)+1)&".."&COUNTIF($AJ$3:$AJ$52,">="&AJ32)) -> 21..50 | AM32: =U32+AJ32 -> 0 | AN32: =V32+AK32 -> 0 | AO32: =IF(COUNTIF($AM$3:$AM$52,"="&AM32)=1,COUNTIF($AM$3:$AM$52,">"&AM32)+1&"",(COUNTIF($AM$3:$AM$52,">"&AM32)+1)&".."&COUNTIF($AM$3:$AM$52,">="&AM32)) -> 21..50 | BB32: =COUNTIF(AP32:BA32,">0")+BC32/10000 -> 0 | BC32: =SUMPRODUCT(AP32:BA32,$AP$54:$BA$54) -> 0 | BD32: =IF(COUNTIF($BB$3:$BB$52,"="&BB32)=1,COUNTIF($BB$3:$BB$52,">"&BB32)+1&"",(COUNTIF($BB$3:$BB$52,">"&BB32)+1)&".."&COUNTIF($BB$3:$BB$52,">="&BB32)) -> 21..50 | BE32: =AM32+BB32 -> 0 | BF32: =AN32+BC32 -> 0 | BG32: =IF(COUNTIF($BE$3:$BE$52,"="&BE32)=1,COUNTIF($BE$3:$BE$52,">"&BE32)+1&"",(COUNTIF($BE$3:$BE$52,">"&BE32)+1)&".."&COUNTIF($BE$3:$BE$52,">="&BE32)) -> 21..50 | BH32: =B32 | BI32: =BE32+IF(B32="",0,A32)/10000000 -> 0 | BK32: ='Команды'!B31 -> #REF!
A33: =A32+1 -> 31 | C33: =IF(B33="","",VLOOKUP(B33,'Команды'!$B$2:$F$51,2,0)) | D33: =IF(B33="","",VLOOKUP(B33,'Команды'!$B$2:$F$51,3,0)) | E33: =IF(B33="","",VLOOKUP(B33,'Команды'!$B$2:$F$51,7,0)) | F33: =IF(B33="","",VLOOKUP(B33,'Команды'!$B$2:$F$51,4,0)) | G33: =IF(B33="","",VLOOKUP(B33,'Команды'!$B$2:$F$51,5,0)) | U33: =COUNTIF(I33:T33,">0")+V33/10000 -> 0 | V33: =SUMPRODUCT(I33:T33,$I$54:$T$54) -> 0 | W33: =IF(COUNTIF($U$3:$U$52,"="&U33)=1,COUNTIF($U$3:$U$52,">"&U33)+1&"",(COUNTIF($U$3:$U$52,">"&U33)+1)&".."&COUNTIF($U$3:$U$52,">="&U33)) -> 21..50 | AJ33: =COUNTIF(X33:AI33,">0")+AK33/10000 -> 0 | AK33: =SUMPRODUCT(X33:AI33,$X$54:$AI$54) -> 0 | AL33: =IF(COUNTIF($AJ$3:$AJ$52,"="&AJ33)=1,COUNTIF($AJ$3:$AJ$52,">"&AJ33)+1&"",(COUNTIF($AJ$3:$AJ$52,">"&AJ33)+1)&".."&COUNTIF($AJ$3:$AJ$52,">="&AJ33)) -> 21..50 | AM33: =U33+AJ33 -> 0 | AN33: =V33+AK33 -> 0 | AO33: =IF(COUNTIF($AM$3:$AM$52,"="&AM33)=1,COUNTIF($AM$3:$AM$52,">"&AM33)+1&"",(COUNTIF($AM$3:$AM$52,">"&AM33)+1)&".."&COUNTIF($AM$3:$AM$52,">="&AM33)) -> 21..50 | BB33: =COUNTIF(AP33:BA33,">0")+BC33/10000 -> 0 | BC33: =SUMPRODUCT(AP33:BA33,$AP$54:$BA$54) -> 0 | BD33: =IF(COUNTIF($BB$3:$BB$52,"="&BB33)=1,COUNTIF($BB$3:$BB$52,">"&BB33)+1&"",(COUNTIF($BB$3:$BB$52,">"&BB33)+1)&".."&COUNTIF($BB$3:$BB$52,">="&BB33)) -> 21..50 | BE33: =AM33+BB33 -> 0 | BF33: =AN33+BC33 -> 0 | BG33: =IF(COUNTIF($BE$3:$BE$52,"="&BE33)=1,COUNTIF($BE$3:$BE$52,">"&BE33)+1&"",(COUNTIF($BE$3:$BE$52,">"&BE33)+1)&".."&COUNTIF($BE$3:$BE$52,">="&BE33)) -> 21..50 | BH33: =B33 | BI33: =BE33+IF(B33="",0,A33)/10000000 -> 0 | BK33: ='Команды'!B32 -> #REF!
A34: =A33+1 -> 32 | C34: =IF(B34="","",VLOOKUP(B34,'Команды'!$B$2:$F$51,2,0)) | D34: =IF(B34="","",VLOOKUP(B34,'Команды'!$B$2:$F$51,3,0)) | E34: =IF(B34="","",VLOOKUP(B34,'Команды'!$B$2:$F$51,7,0)) | F34: =IF(B34="","",VLOOKUP(B34,'Команды'!$B$2:$F$51,4,0)) | G34: =IF(B34="","",VLOOKUP(B34,'Команды'!$B$2:$F$51,5,0)) | U34: =COUNTIF(I34:T34,">0")+V34/10000 -> 0 | V34: =SUMPRODUCT(I34:T34,$I$54:$T$54) -> 0 | W34: =IF(COUNTIF($U$3:$U$52,"="&U34)=1,COUNTIF($U$3:$U$52,">"&U34)+1&"",(COUNTIF($U$3:$U$52,">"&U34)+1)&".."&COUNTIF($U$3:$U$52,">="&U34)) -> 21..50 | AJ34: =COUNTIF(X34:AI34,">0")+AK34/10000 -> 0 | AK34: =SUMPRODUCT(X34:AI34,$X$54:$AI$54) -> 0 | AL34: =IF(COUNTIF($AJ$3:$AJ$52,"="&AJ34)=1,COUNTIF($AJ$3:$AJ$52,">"&AJ34)+1&"",(COUNTIF($AJ$3:$AJ$52,">"&AJ34)+1)&".."&COUNTIF($AJ$3:$AJ$52,">="&AJ34)) -> 21..50 | AM34: =U34+AJ34 -> 0 | AN34: =V34+AK34 -> 0 | AO34: =IF(COUNTIF($AM$3:$AM$52,"="&AM34)=1,COUNTIF($AM$3:$AM$52,">"&AM34)+1&"",(COUNTIF($AM$3:$AM$52,">"&AM34)+1)&".."&COUNTIF($AM$3:$AM$52,">="&AM34)) -> 21..50 | BB34: =COUNTIF(AP34:BA34,">0")+BC34/10000 -> 0 | BC34: =SUMPRODUCT(AP34:BA34,$AP$54:$BA$54) -> 0 | BD34: =IF(COUNTIF($BB$3:$BB$52,"="&BB34)=1,COUNTIF($BB$3:$BB$52,">"&BB34)+1&"",(COUNTIF($BB$3:$BB$52,">"&BB34)+1)&".."&COUNTIF($BB$3:$BB$52,">="&BB34)) -> 21..50 | BE34: =AM34+BB34 -> 0 | BF34: =AN34+BC34 -> 0 | BG34: =IF(COUNTIF($BE$3:$BE$52,"="&BE34)=1,COUNTIF($BE$3:$BE$52,">"&BE34)+1&"",(COUNTIF($BE$3:$BE$52,">"&BE34)+1)&".."&COUNTIF($BE$3:$BE$52,">="&BE34)) -> 21..50 | BH34: =B34 | BI34: =BE34+IF(B34="",0,A34)/10000000 -> 0 | BK34: ='Команды'!B33 -> #REF!
A35: =A34+1 -> 33 | C35: =IF(B35="","",VLOOKUP(B35,'Команды'!$B$2:$F$51,2,0)) | D35: =IF(B35="","",VLOOKUP(B35,'Команды'!$B$2:$F$51,3,0)) | E35: =IF(B35="","",VLOOKUP(B35,'Команды'!$B$2:$F$51,7,0)) | F35: =IF(B35="","",VLOOKUP(B35,'Команды'!$B$2:$F$51,4,0)) | G35: =IF(B35="","",VLOOKUP(B35,'Команды'!$B$2:$F$51,5,0)) | U35: =COUNTIF(I35:T35,">0")+V35/10000 -> 0 | V35: =SUMPRODUCT(I35:T35,$I$54:$T$54) -> 0 | W35: =IF(COUNTIF($U$3:$U$52,"="&U35)=1,COUNTIF($U$3:$U$52,">"&U35)+1&"",(COUNTIF($U$3:$U$52,">"&U35)+1)&".."&COUNTIF($U$3:$U$52,">="&U35)) -> 21..50 | AJ35: =COUNTIF(X35:AI35,">0")+AK35/10000 -> 0 | AK35: =SUMPRODUCT(X35:AI35,$X$54:$AI$54) -> 0 | AL35: =IF(COUNTIF($AJ$3:$AJ$52,"="&AJ35)=1,COUNTIF($AJ$3:$AJ$52,">"&AJ35)+1&"",(COUNTIF($AJ$3:$AJ$52,">"&AJ35)+1)&".."&COUNTIF($AJ$3:$AJ$52,">="&AJ35)) -> 21..50 | AM35: =U35+AJ35 -> 0 | AN35: =V35+AK35 -> 0 | AO35: =IF(COUNTIF($AM$3:$AM$52,"="&AM35)=1,COUNTIF($AM$3:$AM$52,">"&AM35)+1&"",(COUNTIF($AM$3:$AM$52,">"&AM35)+1)&".."&COUNTIF($AM$3:$AM$52,">="&AM35)) -> 21..50 | BB35: =COUNTIF(AP35:BA35,">0")+BC35/10000 -> 0 | BC35: =SUMPRODUCT(AP35:BA35,$AP$54:$BA$54) -> 0 | BD35: =IF(COUNTIF($BB$3:$BB$52,"="&BB35)=1,COUNTIF($BB$3:$BB$52,">"&BB35)+1&"",(COUNTIF($BB$3:$BB$52,">"&BB35)+1)&".."&COUNTIF($BB$3:$BB$52,">="&BB35)) -> 21..50 | BE35: =AM35+BB35 -> 0 | BF35: =AN35+BC35 -> 0 | BG35: =IF(COUNTIF($BE$3:$BE$52,"="&BE35)=1,COUNTIF($BE$3:$BE$52,">"&BE35)+1&"",(COUNTIF($BE$3:$BE$52,">"&BE35)+1)&".."&COUNTIF($BE$3:$BE$52,">="&BE35)) -> 21..50 | BH35: =B35 | BI35: =BE35+IF(B35="",0,A35)/10000000 -> 0 | BK35: ='Команды'!B34 -> #REF!
A36: =A35+1 -> 34 | C36: =IF(B36="","",VLOOKUP(B36,'Команды'!$B$2:$F$51,2,0)) | D36: =IF(B36="","",VLOOKUP(B36,'Команды'!$B$2:$F$51,3,0)) | E36: =IF(B36="","",VLOOKUP(B36,'Команды'!$B$2:$F$51,7,0)) | F36: =IF(B36="","",VLOOKUP(B36,'Команды'!$B$2:$F$51,4,0)) | G36: =IF(B36="","",VLOOKUP(B36,'Команды'!$B$2:$F$51,5,0)) | U36: =COUNTIF(I36:T36,">0")+V36/10000 -> 0 | V36: =SUMPRODUCT(I36:T36,$I$54:$T$54) -> 0 | W36: =IF(COUNTIF($U$3:$U$52,"="&U36)=1,COUNTIF($U$3:$U$52,">"&U36)+1&"",(COUNTIF($U$3:$U$52,">"&U36)+1)&".."&COUNTIF($U$3:$U$52,">="&U36)) -> 21..50 | AJ36: =COUNTIF(X36:AI36,">0")+AK36/10000 -> 0 | AK36: =SUMPRODUCT(X36:AI36,$X$54:$AI$54) -> 0 | AL36: =IF(COUNTIF($AJ$3:$AJ$52,"="&AJ36)=1,COUNTIF($AJ$3:$AJ$52,">"&AJ36)+1&"",(COUNTIF($AJ$3:$AJ$52,">"&AJ36)+1)&".."&COUNTIF($AJ$3:$AJ$52,">="&AJ36)) -> 21..50 | AM36: =U36+AJ36 -> 0 | AN36: =V36+AK36 -> 0 | AO36: =IF(COUNTIF($AM$3:$AM$52,"="&AM36)=1,COUNTIF($AM$3:$AM$52,">"&AM36)+1&"",(COUNTIF($AM$3:$AM$52,">"&AM36)+1)&".."&COUNTIF($AM$3:$AM$52,">="&AM36)) -> 21..50 | BB36: =COUNTIF(AP36:BA36,">0")+BC36/10000 -> 0 | BC36: =SUMPRODUCT(AP36:BA36,$AP$54:$BA$54) -> 0 | BD36: =IF(COUNTIF($BB$3:$BB$52,"="&BB36)=1,COUNTIF($BB$3:$BB$52,">"&BB36)+1&"",(COUNTIF($BB$3:$BB$52,">"&BB36)+1)&".."&COUNTIF($BB$3:$BB$52,">="&BB36)) -> 21..50 | BE36: =AM36+BB36 -> 0 | BF36: =AN36+BC36 -> 0 | BG36: =IF(COUNTIF($BE$3:$BE$52,"="&BE36)=1,COUNTIF($BE$3:$BE$52,">"&BE36)+1&"",(COUNTIF($BE$3:$BE$52,">"&BE36)+1)&".."&COUNTIF($BE$3:$BE$52,">="&BE36)) -> 21..50 | BH36: =B36 | BI36: =BE36+IF(B36="",0,A36)/10000000 -> 0 | BK36: ='Команды'!B35 -> #REF!
A37: =A36+1 -> 35 | C37: =IF(B37="","",VLOOKUP(B37,'Команды'!$B$2:$F$51,2,0)) | D37: =IF(B37="","",VLOOKUP(B37,'Команды'!$B$2:$F$51,3,0)) | E37: =IF(B37="","",VLOOKUP(B37,'Команды'!$B$2:$F$51,7,0)) | F37: =IF(B37="","",VLOOKUP(B37,'Команды'!$B$2:$F$51,4,0)) | G37: =IF(B37="","",VLOOKUP(B37,'Команды'!$B$2:$F$51,5,0)) | U37: =COUNTIF(I37:T37,">0")+V37/10000 -> 0 | V37: =SUMPRODUCT(I37:T37,$I$54:$T$54) -> 0 | W37: =IF(COUNTIF($U$3:$U$52,"="&U37)=1,COUNTIF($U$3:$U$52,">"&U37)+1&"",(COUNTIF($U$3:$U$52,">"&U37)+1)&".."&COUNTIF($U$3:$U$52,">="&U37)) -> 21..50 | AJ37: =COUNTIF(X37:AI37,">0")+AK37/10000 -> 0 | AK37: =SUMPRODUCT(X37:AI37,$X$54:$AI$54) -> 0 | AL37: =IF(COUNTIF($AJ$3:$AJ$52,"="&AJ37)=1,COUNTIF($AJ$3:$AJ$52,">"&AJ37)+1&"",(COUNTIF($AJ$3:$AJ$52,">"&AJ37)+1)&".."&COUNTIF($AJ$3:$AJ$52,">="&AJ37)) -> 21..50 | AM37: =U37+AJ37 -> 0 | AN37: =V37+AK37 -> 0 | AO37: =IF(COUNTIF($AM$3:$AM$52,"="&AM37)=1,COUNTIF($AM$3:$AM$52,">"&AM37)+1&"",(COUNTIF($AM$3:$AM$52,">"&AM37)+1)&".."&COUNTIF($AM$3:$AM$52,">="&AM37)) -> 21..50 | BB37: =COUNTIF(AP37:BA37,">0")+BC37/10000 -> 0 | BC37: =SUMPRODUCT(AP37:BA37,$AP$54:$BA$54) -> 0 | BD37: =IF(COUNTIF($BB$3:$BB$52,"="&BB37)=1,COUNTIF($BB$3:$BB$52,">"&BB37)+1&"",(COUNTIF($BB$3:$BB$52,">"&BB37)+1)&".."&COUNTIF($BB$3:$BB$52,">="&BB37)) -> 21..50 | BE37: =AM37+BB37 -> 0 | BF37: =AN37+BC37 -> 0 | BG37: =IF(COUNTIF($BE$3:$BE$52,"="&BE37)=1,COUNTIF($BE$3:$BE$52,">"&BE37)+1&"",(COUNTIF($BE$3:$BE$52,">"&BE37)+1)&".."&COUNTIF($BE$3:$BE$52,">="&BE37)) -> 21..50 | BH37: =B37 | BI37: =BE37+IF(B37="",0,A37)/10000000 -> 0 | BK37: ='Команды'!B36 -> #REF!
A38: =A37+1 -> 36 | C38: =IF(B38="","",VLOOKUP(B38,'Команды'!$B$2:$F$51,2,0)) | D38: =IF(B38="","",VLOOKUP(B38,'Команды'!$B$2:$F$51,3,0)) | E38: =IF(B38="","",VLOOKUP(B38,'Команды'!$B$2:$F$51,7,0)) | F38: =IF(B38="","",VLOOKUP(B38,'Команды'!$B$2:$F$51,4,0)) | G38: =IF(B38="","",VLOOKUP(B38,'Команды'!$B$2:$F$51,5,0)) | U38: =COUNTIF(I38:T38,">0")+V38/10000 -> 0 | V38: =SUMPRODUCT(I38:T38,$I$54:$T$54) -> 0 | W38: =IF(COUNTIF($U$3:$U$52,"="&U38)=1,COUNTIF($U$3:$U$52,">"&U38)+1&"",(COUNTIF($U$3:$U$52,">"&U38)+1)&".."&COUNTIF($U$3:$U$52,">="&U38)) -> 21..50 | AJ38: =COUNTIF(X38:AI38,">0")+AK38/10000 -> 0 | AK38: =SUMPRODUCT(X38:AI38,$X$54:$AI$54) -> 0 | AL38: =IF(COUNTIF($AJ$3:$AJ$52,"="&AJ38)=1,COUNTIF($AJ$3:$AJ$52,">"&AJ38)+1&"",(COUNTIF($AJ$3:$AJ$52,">"&AJ38)+1)&".."&COUNTIF($AJ$3:$AJ$52,">="&AJ38)) -> 21..50 | AM38: =U38+AJ38 -> 0 | AN38: =V38+AK38 -> 0 | AO38: =IF(COUNTIF($AM$3:$AM$52,"="&AM38)=1,COUNTIF($AM$3:$AM$52,">"&AM38)+1&"",(COUNTIF($AM$3:$AM$52,">"&AM38)+1)&".."&COUNTIF($AM$3:$AM$52,">="&AM38)) -> 21..50 | BB38: =COUNTIF(AP38:BA38,">0")+BC38/10000 -> 0 | BC38: =SUMPRODUCT(AP38:BA38,$AP$54:$BA$54) -> 0 | BD38: =IF(COUNTIF($BB$3:$BB$52,"="&BB38)=1,COUNTIF($BB$3:$BB$52,">"&BB38)+1&"",(COUNTIF($BB$3:$BB$52,">"&BB38)+1)&".."&COUNTIF($BB$3:$BB$52,">="&BB38)) -> 21..50 | BE38: =AM38+BB38 -> 0 | BF38: =AN38+BC38 -> 0 | BG38: =IF(COUNTIF($BE$3:$BE$52,"="&BE38)=1,COUNTIF($BE$3:$BE$52,">"&BE38)+1&"",(COUNTIF($BE$3:$BE$52,">"&BE38)+1)&".."&COUNTIF($BE$3:$BE$52,">="&BE38)) -> 21..50 | BH38: =B38 | BI38: =BE38+IF(B38="",0,A38)/10000000 -> 0 | BK38: =Команды!#REF! -> #ERROR!
A39: =A38+1 -> 37 | C39: =IF(B39="","",VLOOKUP(B39,'Команды'!$B$2:$F$51,2,0)) | D39: =IF(B39="","",VLOOKUP(B39,'Команды'!$B$2:$F$51,3,0)) | E39: =IF(B39="","",VLOOKUP(B39,'Команды'!$B$2:$F$51,7,0)) | F39: =IF(B39="","",VLOOKUP(B39,'Команды'!$B$2:$F$51,4,0)) | G39: =IF(B39="","",VLOOKUP(B39,'Команды'!$B$2:$F$51,5,0)) | U39: =COUNTIF(I39:T39,">0")+V39/10000 -> 0 | V39: =SUMPRODUCT(I39:T39,$I$54:$T$54) -> 0 | W39: =IF(COUNTIF($U$3:$U$52,"="&U39)=1,COUNTIF($U$3:$U$52,">"&U39)+1&"",(COUNTIF($U$3:$U$52,">"&U39)+1)&".."&COUNTIF($U$3:$U$52,">="&U39)) -> 21..50 | AJ39: =COUNTIF(X39:AI39,">0")+AK39/10000 -> 0 | AK39: =SUMPRODUCT(X39:AI39,$X$54:$AI$54) -> 0 | AL39: =IF(COUNTIF($AJ$3:$AJ$52,"="&AJ39)=1,COUNTIF($AJ$3:$AJ$52,">"&AJ39)+1&"",(COUNTIF($AJ$3:$AJ$52,">"&AJ39)+1)&".."&COUNTIF($AJ$3:$AJ$52,">="&AJ39)) -> 21..50 | AM39: =U39+AJ39 -> 0 | AN39: =V39+AK39 -> 0 | AO39: =IF(COUNTIF($AM$3:$AM$52,"="&AM39)=1,COUNTIF($AM$3:$AM$52,">"&AM39)+1&"",(COUNTIF($AM$3:$AM$52,">"&AM39)+1)&".."&COUNTIF($AM$3:$AM$52,">="&AM39)) -> 21..50 | BB39: =COUNTIF(AP39:BA39,">0")+BC39/10000 -> 0 | BC39: =SUMPRODUCT(AP39:BA39,$AP$54:$BA$54) -> 0 | BD39: =IF(COUNTIF($BB$3:$BB$52,"="&BB39)=1,COUNTIF($BB$3:$BB$52,">"&BB39)+1&"",(COUNTIF($BB$3:$BB$52,">"&BB39)+1)&".."&COUNTIF($BB$3:$BB$52,">="&BB39)) -> 21..50 | BE39: =AM39+BB39 -> 0 | BF39: =AN39+BC39 -> 0 | BG39: =IF(COUNTIF($BE$3:$BE$52,"="&BE39)=1,COUNTIF($BE$3:$BE$52,">"&BE39)+1&"",(COUNTIF($BE$3:$BE$52,">"&BE39)+1)&".."&COUNTIF($BE$3:$BE$52,">="&BE39)) -> 21..50 | BH39: =B39 | BI39: =BE39+IF(B39="",0,A39)/10000000 -> 0 | BK39: =Команды!#REF! -> #ERROR!
